BEGIN:VCALENDAR
VERSION:2.0
PRODID:-//Region 51 of Narcotics Anonymous - ECPv6.15.17.1//NONSGML v1.0//EN
CALSCALE:GREGORIAN
METHOD:PUBLISH
X-WR-CALNAME:Region 51 of Narcotics Anonymous
X-ORIGINAL-URL:https://region51na.org
X-WR-CALDESC:Events for Region 51 of Narcotics Anonymous
REFRESH-INTERVAL;VALUE=DURATION:PT1H
X-Robots-Tag:noindex
X-PUBLISHED-TTL:PT1H
BEGIN:VTIMEZONE
TZID:America/Los_Angeles
BEGIN:DAYLIGHT
TZOFFSETFROM:-0800
TZOFFSETTO:-0700
TZNAME:PDT
DTSTART:20270314T100000
END:DAYLIGHT
BEGIN:STANDARD
TZOFFSETFROM:-0700
TZOFFSETTO:-0800
TZNAME:PST
DTSTART:20271107T090000
END:STANDARD
BEGIN:DAYLIGHT
TZOFFSETFROM:-0800
TZOFFSETTO:-0700
TZNAME:PDT
DTSTART:20280312T100000
END:DAYLIGHT
BEGIN:STANDARD
TZOFFSETFROM:-0700
TZOFFSETTO:-0800
TZNAME:PST
DTSTART:20281105T090000
END:STANDARD
BEGIN:DAYLIGHT
TZOFFSETFROM:-0800
TZOFFSETTO:-0700
TZNAME:PDT
DTSTART:20290311T100000
END:DAYLIGHT
BEGIN:STANDARD
TZOFFSETFROM:-0700
TZOFFSETTO:-0800
TZNAME:PST
DTSTART:20291104T090000
END:STANDARD
BEGIN:DAYLIGHT
TZOFFSETFROM:-0800
TZOFFSETTO:-0700
TZNAME:PDT
DTSTART:20300310T100000
END:DAYLIGHT
BEGIN:STANDARD
TZOFFSETFROM:-0700
TZOFFSETTO:-0800
TZNAME:PST
DTSTART:20301103T090000
END:STANDARD
END:VTIMEZONE
BEGIN:VTIMEZONE
TZID:America/Phoenix
BEGIN:STANDARD
TZOFFSETFROM:-0700
TZOFFSETTO:-0700
TZNAME:MST
DTSTART:20280101T000000
END:STANDARD
END:VTIMEZONE
BEGIN:VEVENT
DTSTART;TZID=America/Los_Angeles:20281230T100000
DTEND;TZID=America/Los_Angeles:20281230T110000
DTSTAMP:20260419T152226
CREATED:20220923T141506Z
LAST-MODIFIED:20260314T000318Z
UID:10003473-1861783200-1861786800@region51na.org
SUMMARY:Monthly Sponsorship Behind the Walls Subcommittee Meeting
DESCRIPTION:When: Last Saturday of the month\nTime: 10:00 a.m.\nZoom Info: ID: 865 1019 5799 Passcode: 496529
URL:https://region51na.org/event/sbtw/2028-12-30/
LOCATION:Zoom
CATEGORIES:Region 51
END:VEVENT
BEGIN:VEVENT
DTSTART;TZID=America/Los_Angeles:20290103T183000
DTEND;TZID=America/Los_Angeles:20290103T193000
DTSTAMP:20260419T152226
CREATED:20241217T184349Z
LAST-MODIFIED:20241217T184349Z
UID:10002352-1862159400-1862163000@region51na.org
SUMMARY:Addicts Together (1st) & 3rd week Speaker Meetings
DESCRIPTION:
URL:https://region51na.org/event/addicts-together-1st-3rd-week-speaker-meetings/2029-01-03/
LOCATION:Addicts Together\, 900 Liberace Ave. Suite A202 (Music Hall on 2nd Floor down from meeting location)\, Las Vegas\, NV\, 89109\, United States
CATEGORIES:Region 51
ATTACH;FMTTYPE=image/webp:https://region51na.org/wp-content/uploads/2024/12/AT-SpeakerMeetings-1.webp
END:VEVENT
BEGIN:VEVENT
DTSTART;TZID=America/Los_Angeles:20290106T110000
DTEND;TZID=America/Los_Angeles:20290106T130000
DTSTAMP:20260419T152226
CREATED:20230401T230535Z
LAST-MODIFIED:20250609T005100Z
UID:10002475-1862391600-1862398800@region51na.org
SUMMARY:Monthly H & I Subcommittee Meeting *REVISED LOCATION*
DESCRIPTION:Committee meets at 11am. Admin Body meets at 10am. 1st Saturday of each month ONLY in person. \n  \n4800 Alpine Place\n(Willow Room)\nLas Vegas\, NV 89107
URL:https://region51na.org/event/monthly-h-i-subcommittee-meeting-2/2029-01-06/
LOCATION:Foundation for Recovery\, 4800 Alpine Pl\, Las Vegas\, NV\, United States
CATEGORIES:Region 51
END:VEVENT
BEGIN:VEVENT
DTSTART;TZID=America/Los_Angeles:20290106T130000
DTEND;TZID=America/Los_Angeles:20290106T140000
DTSTAMP:20260419T152226
CREATED:20231017T013159Z
LAST-MODIFIED:20231017T013200Z
UID:10001994-1862398800-1862402400@region51na.org
SUMMARY:SN Area Unity and Activities meeting
DESCRIPTION:Monthly meeting
URL:https://region51na.org/event/sn-area-unity-and-activities-meeting-2-2/2029-01-06/
LOCATION:3M Club\, 1401 N Decatur Blvd\, Las Vegas\, NV\, 89108
CATEGORIES:Region 51
END:VEVENT
BEGIN:VEVENT
DTSTART;TZID=America/Los_Angeles:20290106T130000
DTEND;TZID=America/Los_Angeles:20290106T140000
DTSTAMP:20260419T152226
CREATED:20250812T174610Z
LAST-MODIFIED:20250812T174610Z
UID:10003085-1862398800-1862402400@region51na.org
SUMMARY:SN Area Unity and Activities meeting
DESCRIPTION:Monthly meeting
URL:https://region51na.org/event/sn-area-unity-and-activities-meeting-4/2029-01-06/
LOCATION:3M Club\, 1401 N Decatur Blvd\, Las Vegas\, NV\, 89108
CATEGORIES:Region 51
ATTACH;FMTTYPE=image/webp:https://region51na.org/wp-content/uploads/2025/08/Blush-White-Modern-Doodle-Hands-Charity-Donations-Flyer.webp
ORGANIZER;CN="Unities and Activities":MAILTO:dbakley13@gmail.com
END:VEVENT
BEGIN:VEVENT
DTSTART;TZID=America/Phoenix:20290107T140000
DTEND;TZID=America/Phoenix:20290107T170000
DTSTAMP:20260419T152226
CREATED:20220923T135732Z
LAST-MODIFIED:20220923T135732Z
UID:10003373-1862488800-1862499600@region51na.org
SUMMARY:Monthly CAN ASC Meeting
DESCRIPTION:1st Sunday of each month at 2pm AZ \nCAN zoom 879 1866 5974 \npd: 318686. \n1sr Sun of Month 2pm Arizona time
URL:https://region51na.org/event/monthly-can-asc-meeting/2029-01-07/
LOCATION:NV
CATEGORIES:Region 51
END:VEVENT
BEGIN:VEVENT
DTSTART;TZID=America/Los_Angeles:20290113T133000
DTEND;TZID=America/Los_Angeles:20290113T160000
DTSTAMP:20260419T152226
CREATED:20220923T140010Z
LAST-MODIFIED:20241106T201609Z
UID:10002210-1863005400-1863014400@region51na.org
SUMMARY:Monthly Southern Utah ASC Meeting
DESCRIPTION:2nd Saturday of the month  2:30 pm – 5 pm MS \nZoom ID Pending
URL:https://region51na.org/event/monthly-southern-utah-asc-meeting/2029-01-13/
LOCATION:NV
CATEGORIES:Region 51
END:VEVENT
BEGIN:VEVENT
DTSTART;TZID=America/Los_Angeles:20290114T130000
DTEND;TZID=America/Los_Angeles:20290114T150000
DTSTAMP:20260419T152226
CREATED:20220923T140204Z
LAST-MODIFIED:20250609T012233Z
UID:10002583-1863090000-1863097200@region51na.org
SUMMARY:Monthly Southern Nevada ASC Meeting *UPDATED LOCATION*
DESCRIPTION:Committee meets at 1PM.  Admin body meets at 12PM. \n  \nSouthern Nevada ASC meets the 2nd Sunday of each month. \n1100 Almond Tree Ln \nLas Vegas\, NV 89104
URL:https://region51na.org/event/monthly-southern-nevada-asc-meeting/2029-01-14/
LOCATION:Keepin It Real\, 1100 Almond Tree Lane\, Las Vegas\, NV\, 89104\, United States
CATEGORIES:Region 51
END:VEVENT
BEGIN:VEVENT
DTSTART;TZID=America/Los_Angeles:20290116T180000
DTEND;TZID=America/Los_Angeles:20290116T200000
DTSTAMP:20260419T152226
CREATED:20230921T022855Z
LAST-MODIFIED:20260319T045452Z
UID:10003510-1863280800-1863288000@region51na.org
SUMMARY:Monthly South Valley ASC Meeting
DESCRIPTION:3rd Tuesday of every month 6pm to 8pm \nThis will be an in-person only meeting. Please send your reports by the Monday before the meeting. \nGSR orientations are held 30 minutes prior to ASC at 5:30 PM for any new GSRs and Alternate GSRs. \nPlease send your group reports back to this email secretary.svana@gmail.com \nPlease send your literature orders to svnalit@gmail.com \nPlease send donations to: \nVenmo: Search “NA South Valley Area” \nFor money orders/checks\, please mail to: \nSouth Valley Area of Narcotics Anonymous \nP.O. Box 20726 \nLas Vegas\, NV 89121
URL:https://region51na.org/event/monthly-south-valley-asc-meeting-4/2029-01-16/
LOCATION:Community Lutheran Church\, 3720 E Tropicana Ave.\, Las Vegas\, NV\, 89121
CATEGORIES:Region 51
END:VEVENT
BEGIN:VEVENT
DTSTART;TZID=America/Los_Angeles:20290116T183000
DTEND;TZID=America/Los_Angeles:20290116T203000
DTSTAMP:20260419T152226
CREATED:20220923T141135Z
LAST-MODIFIED:20230322T050722Z
UID:10003433-1863282600-1863289800@region51na.org
SUMMARY:Monthly NXNWANA ASC Meeting
DESCRIPTION:3rd Tuesday of Every month at 6:30PM \nTuesday at Mountain View Presbyterian Church at 8601 Del Webb Blvd\, Las Vegas\, NV 89134.
URL:https://region51na.org/event/monthly-nxnwana-asc-meeting/2029-01-16/
LOCATION:Mountain View Presbyterian Church\, 8601 Del Webb Blvd\, Las Veags\, NV\, 89134\, United States
CATEGORIES:Region 51
END:VEVENT
BEGIN:VEVENT
DTSTART;TZID=America/Los_Angeles:20290117T183000
DTEND;TZID=America/Los_Angeles:20290117T193000
DTSTAMP:20260419T152226
CREATED:20241217T184600Z
LAST-MODIFIED:20241217T184902Z
UID:10002413-1863369000-1863372600@region51na.org
SUMMARY:Addicts Together 1st & (3rd) week Speaker Meetings
DESCRIPTION:Addicts Together 1st & (3rd) week Speaker Meetings
URL:https://region51na.org/event/addicts-together-1st-3rd-week-speaker-meetings-2/2029-01-17/
LOCATION:Addicts Together\, 900 Liberace Ave. Suite A202 (Music Hall on 2nd Floor down from meeting location)\, Las Vegas\, NV\, 89109\, United States
CATEGORIES:Region 51
ATTACH;FMTTYPE=image/webp:https://region51na.org/wp-content/uploads/2024/12/AT-SpeakerMeetings-1.webp
END:VEVENT
BEGIN:VEVENT
DTSTART;TZID=America/Los_Angeles:20290120T090000
DTEND;TZID=America/Los_Angeles:20290120T110000
DTSTAMP:20260419T152226
CREATED:20240414T203520Z
LAST-MODIFIED:20240414T203520Z
UID:10001608-1863594000-1863601200@region51na.org
SUMMARY:Breakfast Speaker Jam
DESCRIPTION:1 Speaker\nFree Breakfast
URL:https://region51na.org/event/breakfast-speaker-jam-4/2029-01-20/
LOCATION:Keepin It Real\, 1100 Almond Tree Lane\, Las Vegas\, NV\, 89104\, United States
ORGANIZER;CN="Addict's Living In Recovery":MAILTO:fresha11freshera@gmail.com
END:VEVENT
BEGIN:VEVENT
DTSTART;TZID=America/Los_Angeles:20290121T113000
DTEND;TZID=America/Los_Angeles:20290121T143000
DTSTAMP:20260419T152226
CREATED:20221017T043623Z
LAST-MODIFIED:20250603T051649Z
UID:10002556-1863689400-1863700200@region51na.org
SUMMARY:Regional Service Committee (RSC) meeting
DESCRIPTION:RSC meets in person only\, every other month\, on the 3rd Sunday at The Rooms-4800 Alpine Place.
URL:https://region51na.org/event/regional-service-committee-rsc-meeting/2029-01-21/
LOCATION:Foundation for Recovery\, 4800 Alpine Pl\, Las Vegas\, NV\, United States
CATEGORIES:Region 51
END:VEVENT
BEGIN:VEVENT
DTSTART;TZID=America/Los_Angeles:20290127T100000
DTEND;TZID=America/Los_Angeles:20290127T110000
DTSTAMP:20260419T152226
CREATED:20220923T141506Z
LAST-MODIFIED:20260314T000318Z
UID:10003474-1864202400-1864206000@region51na.org
SUMMARY:Monthly Sponsorship Behind the Walls Subcommittee Meeting
DESCRIPTION:When: Last Saturday of the month\nTime: 10:00 a.m.\nZoom Info: ID: 865 1019 5799 Passcode: 496529
URL:https://region51na.org/event/sbtw/2029-01-27/
LOCATION:Zoom
CATEGORIES:Region 51
END:VEVENT
BEGIN:VEVENT
DTSTART;TZID=America/Los_Angeles:20290203T110000
DTEND;TZID=America/Los_Angeles:20290203T130000
DTSTAMP:20260419T152226
CREATED:20230401T230535Z
LAST-MODIFIED:20250609T005100Z
UID:10002476-1864810800-1864818000@region51na.org
SUMMARY:Monthly H & I Subcommittee Meeting *REVISED LOCATION*
DESCRIPTION:Committee meets at 11am. Admin Body meets at 10am. 1st Saturday of each month ONLY in person. \n  \n4800 Alpine Place\n(Willow Room)\nLas Vegas\, NV 89107
URL:https://region51na.org/event/monthly-h-i-subcommittee-meeting-2/2029-02-03/
LOCATION:Foundation for Recovery\, 4800 Alpine Pl\, Las Vegas\, NV\, United States
CATEGORIES:Region 51
END:VEVENT
BEGIN:VEVENT
DTSTART;TZID=America/Los_Angeles:20290203T130000
DTEND;TZID=America/Los_Angeles:20290203T140000
DTSTAMP:20260419T152226
CREATED:20231017T013159Z
LAST-MODIFIED:20231017T013200Z
UID:10001995-1864818000-1864821600@region51na.org
SUMMARY:SN Area Unity and Activities meeting
DESCRIPTION:Monthly meeting
URL:https://region51na.org/event/sn-area-unity-and-activities-meeting-2-2/2029-02-03/
LOCATION:3M Club\, 1401 N Decatur Blvd\, Las Vegas\, NV\, 89108
CATEGORIES:Region 51
END:VEVENT
BEGIN:VEVENT
DTSTART;TZID=America/Los_Angeles:20290203T130000
DTEND;TZID=America/Los_Angeles:20290203T140000
DTSTAMP:20260419T152226
CREATED:20250812T174610Z
LAST-MODIFIED:20250812T174610Z
UID:10003086-1864818000-1864821600@region51na.org
SUMMARY:SN Area Unity and Activities meeting
DESCRIPTION:Monthly meeting
URL:https://region51na.org/event/sn-area-unity-and-activities-meeting-4/2029-02-03/
LOCATION:3M Club\, 1401 N Decatur Blvd\, Las Vegas\, NV\, 89108
CATEGORIES:Region 51
ATTACH;FMTTYPE=image/webp:https://region51na.org/wp-content/uploads/2025/08/Blush-White-Modern-Doodle-Hands-Charity-Donations-Flyer.webp
ORGANIZER;CN="Unities and Activities":MAILTO:dbakley13@gmail.com
END:VEVENT
BEGIN:VEVENT
DTSTART;TZID=America/Phoenix:20290204T140000
DTEND;TZID=America/Phoenix:20290204T170000
DTSTAMP:20260419T152226
CREATED:20220923T135732Z
LAST-MODIFIED:20220923T135732Z
UID:10003374-1864908000-1864918800@region51na.org
SUMMARY:Monthly CAN ASC Meeting
DESCRIPTION:1st Sunday of each month at 2pm AZ \nCAN zoom 879 1866 5974 \npd: 318686. \n1sr Sun of Month 2pm Arizona time
URL:https://region51na.org/event/monthly-can-asc-meeting/2029-02-04/
LOCATION:NV
CATEGORIES:Region 51
END:VEVENT
BEGIN:VEVENT
DTSTART;TZID=America/Los_Angeles:20290207T183000
DTEND;TZID=America/Los_Angeles:20290207T193000
DTSTAMP:20260419T152226
CREATED:20241217T184349Z
LAST-MODIFIED:20241217T184349Z
UID:10002353-1865183400-1865187000@region51na.org
SUMMARY:Addicts Together (1st) & 3rd week Speaker Meetings
DESCRIPTION:
URL:https://region51na.org/event/addicts-together-1st-3rd-week-speaker-meetings/2029-02-07/
LOCATION:Addicts Together\, 900 Liberace Ave. Suite A202 (Music Hall on 2nd Floor down from meeting location)\, Las Vegas\, NV\, 89109\, United States
CATEGORIES:Region 51
ATTACH;FMTTYPE=image/webp:https://region51na.org/wp-content/uploads/2024/12/AT-SpeakerMeetings-1.webp
END:VEVENT
BEGIN:VEVENT
DTSTART;TZID=America/Los_Angeles:20290210T133000
DTEND;TZID=America/Los_Angeles:20290210T160000
DTSTAMP:20260419T152226
CREATED:20220923T140010Z
LAST-MODIFIED:20241106T201609Z
UID:10002211-1865424600-1865433600@region51na.org
SUMMARY:Monthly Southern Utah ASC Meeting
DESCRIPTION:2nd Saturday of the month  2:30 pm – 5 pm MS \nZoom ID Pending
URL:https://region51na.org/event/monthly-southern-utah-asc-meeting/2029-02-10/
LOCATION:NV
CATEGORIES:Region 51
END:VEVENT
BEGIN:VEVENT
DTSTART;TZID=America/Los_Angeles:20290211T130000
DTEND;TZID=America/Los_Angeles:20290211T150000
DTSTAMP:20260419T152226
CREATED:20220923T140204Z
LAST-MODIFIED:20250609T012233Z
UID:10002584-1865509200-1865516400@region51na.org
SUMMARY:Monthly Southern Nevada ASC Meeting *UPDATED LOCATION*
DESCRIPTION:Committee meets at 1PM.  Admin body meets at 12PM. \n  \nSouthern Nevada ASC meets the 2nd Sunday of each month. \n1100 Almond Tree Ln \nLas Vegas\, NV 89104
URL:https://region51na.org/event/monthly-southern-nevada-asc-meeting/2029-02-11/
LOCATION:Keepin It Real\, 1100 Almond Tree Lane\, Las Vegas\, NV\, 89104\, United States
CATEGORIES:Region 51
END:VEVENT
BEGIN:VEVENT
DTSTART;TZID=America/Los_Angeles:20290217T090000
DTEND;TZID=America/Los_Angeles:20290217T110000
DTSTAMP:20260419T152226
CREATED:20240414T203520Z
LAST-MODIFIED:20240414T203520Z
UID:10001609-1866013200-1866020400@region51na.org
SUMMARY:Breakfast Speaker Jam
DESCRIPTION:1 Speaker\nFree Breakfast
URL:https://region51na.org/event/breakfast-speaker-jam-4/2029-02-17/
LOCATION:Keepin It Real\, 1100 Almond Tree Lane\, Las Vegas\, NV\, 89104\, United States
ORGANIZER;CN="Addict's Living In Recovery":MAILTO:fresha11freshera@gmail.com
END:VEVENT
BEGIN:VEVENT
DTSTART;TZID=America/Los_Angeles:20290220T180000
DTEND;TZID=America/Los_Angeles:20290220T200000
DTSTAMP:20260419T152226
CREATED:20230921T022855Z
LAST-MODIFIED:20260319T045452Z
UID:10003511-1866304800-1866312000@region51na.org
SUMMARY:Monthly South Valley ASC Meeting
DESCRIPTION:3rd Tuesday of every month 6pm to 8pm \nThis will be an in-person only meeting. Please send your reports by the Monday before the meeting. \nGSR orientations are held 30 minutes prior to ASC at 5:30 PM for any new GSRs and Alternate GSRs. \nPlease send your group reports back to this email secretary.svana@gmail.com \nPlease send your literature orders to svnalit@gmail.com \nPlease send donations to: \nVenmo: Search “NA South Valley Area” \nFor money orders/checks\, please mail to: \nSouth Valley Area of Narcotics Anonymous \nP.O. Box 20726 \nLas Vegas\, NV 89121
URL:https://region51na.org/event/monthly-south-valley-asc-meeting-4/2029-02-20/
LOCATION:Community Lutheran Church\, 3720 E Tropicana Ave.\, Las Vegas\, NV\, 89121
CATEGORIES:Region 51
END:VEVENT
BEGIN:VEVENT
DTSTART;TZID=America/Los_Angeles:20290220T183000
DTEND;TZID=America/Los_Angeles:20290220T203000
DTSTAMP:20260419T152226
CREATED:20220923T141135Z
LAST-MODIFIED:20230322T050722Z
UID:10003434-1866306600-1866313800@region51na.org
SUMMARY:Monthly NXNWANA ASC Meeting
DESCRIPTION:3rd Tuesday of Every month at 6:30PM \nTuesday at Mountain View Presbyterian Church at 8601 Del Webb Blvd\, Las Vegas\, NV 89134.
URL:https://region51na.org/event/monthly-nxnwana-asc-meeting/2029-02-20/
LOCATION:Mountain View Presbyterian Church\, 8601 Del Webb Blvd\, Las Veags\, NV\, 89134\, United States
CATEGORIES:Region 51
END:VEVENT
BEGIN:VEVENT
DTSTART;TZID=America/Los_Angeles:20290221T183000
DTEND;TZID=America/Los_Angeles:20290221T193000
DTSTAMP:20260419T152226
CREATED:20241217T184600Z
LAST-MODIFIED:20241217T184902Z
UID:10002414-1866393000-1866396600@region51na.org
SUMMARY:Addicts Together 1st & (3rd) week Speaker Meetings
DESCRIPTION:Addicts Together 1st & (3rd) week Speaker Meetings
URL:https://region51na.org/event/addicts-together-1st-3rd-week-speaker-meetings-2/2029-02-21/
LOCATION:Addicts Together\, 900 Liberace Ave. Suite A202 (Music Hall on 2nd Floor down from meeting location)\, Las Vegas\, NV\, 89109\, United States
CATEGORIES:Region 51
ATTACH;FMTTYPE=image/webp:https://region51na.org/wp-content/uploads/2024/12/AT-SpeakerMeetings-1.webp
END:VEVENT
BEGIN:VEVENT
DTSTART;TZID=America/Los_Angeles:20290224T100000
DTEND;TZID=America/Los_Angeles:20290224T110000
DTSTAMP:20260419T152226
CREATED:20220923T141506Z
LAST-MODIFIED:20260314T000318Z
UID:10003475-1866621600-1866625200@region51na.org
SUMMARY:Monthly Sponsorship Behind the Walls Subcommittee Meeting
DESCRIPTION:When: Last Saturday of the month\nTime: 10:00 a.m.\nZoom Info: ID: 865 1019 5799 Passcode: 496529
URL:https://region51na.org/event/sbtw/2029-02-24/
LOCATION:Zoom
CATEGORIES:Region 51
END:VEVENT
BEGIN:VEVENT
DTSTART;TZID=America/Los_Angeles:20290303T110000
DTEND;TZID=America/Los_Angeles:20290303T130000
DTSTAMP:20260419T152226
CREATED:20230401T230535Z
LAST-MODIFIED:20250609T005100Z
UID:10002477-1867230000-1867237200@region51na.org
SUMMARY:Monthly H & I Subcommittee Meeting *REVISED LOCATION*
DESCRIPTION:Committee meets at 11am. Admin Body meets at 10am. 1st Saturday of each month ONLY in person. \n  \n4800 Alpine Place\n(Willow Room)\nLas Vegas\, NV 89107
URL:https://region51na.org/event/monthly-h-i-subcommittee-meeting-2/2029-03-03/
LOCATION:Foundation for Recovery\, 4800 Alpine Pl\, Las Vegas\, NV\, United States
CATEGORIES:Region 51
END:VEVENT
BEGIN:VEVENT
DTSTART;TZID=America/Los_Angeles:20290303T130000
DTEND;TZID=America/Los_Angeles:20290303T140000
DTSTAMP:20260419T152226
CREATED:20231017T013159Z
LAST-MODIFIED:20231017T013200Z
UID:10001996-1867237200-1867240800@region51na.org
SUMMARY:SN Area Unity and Activities meeting
DESCRIPTION:Monthly meeting
URL:https://region51na.org/event/sn-area-unity-and-activities-meeting-2-2/2029-03-03/
LOCATION:3M Club\, 1401 N Decatur Blvd\, Las Vegas\, NV\, 89108
CATEGORIES:Region 51
END:VEVENT
BEGIN:VEVENT
DTSTART;TZID=America/Los_Angeles:20290303T130000
DTEND;TZID=America/Los_Angeles:20290303T140000
DTSTAMP:20260419T152226
CREATED:20250812T174610Z
LAST-MODIFIED:20250812T174610Z
UID:10003087-1867237200-1867240800@region51na.org
SUMMARY:SN Area Unity and Activities meeting
DESCRIPTION:Monthly meeting
URL:https://region51na.org/event/sn-area-unity-and-activities-meeting-4/2029-03-03/
LOCATION:3M Club\, 1401 N Decatur Blvd\, Las Vegas\, NV\, 89108
CATEGORIES:Region 51
ATTACH;FMTTYPE=image/webp:https://region51na.org/wp-content/uploads/2025/08/Blush-White-Modern-Doodle-Hands-Charity-Donations-Flyer.webp
ORGANIZER;CN="Unities and Activities":MAILTO:dbakley13@gmail.com
END:VEVENT
BEGIN:VEVENT
DTSTART;TZID=America/Phoenix:20290304T140000
DTEND;TZID=America/Phoenix:20290304T170000
DTSTAMP:20260419T152226
CREATED:20220923T135732Z
LAST-MODIFIED:20220923T135732Z
UID:10003375-1867327200-1867338000@region51na.org
SUMMARY:Monthly CAN ASC Meeting
DESCRIPTION:1st Sunday of each month at 2pm AZ \nCAN zoom 879 1866 5974 \npd: 318686. \n1sr Sun of Month 2pm Arizona time
URL:https://region51na.org/event/monthly-can-asc-meeting/2029-03-04/
LOCATION:NV
CATEGORIES:Region 51
END:VEVENT
END:VCALENDAR