BEGIN:VCALENDAR
VERSION:2.0
PRODID:-//Region 51 of Narcotics Anonymous - ECPv6.15.17.1//NONSGML v1.0//EN
CALSCALE:GREGORIAN
METHOD:PUBLISH
X-WR-CALNAME:Region 51 of Narcotics Anonymous
X-ORIGINAL-URL:https://region51na.org
X-WR-CALDESC:Events for Region 51 of Narcotics Anonymous
REFRESH-INTERVAL;VALUE=DURATION:PT1H
X-Robots-Tag:noindex
X-PUBLISHED-TTL:PT1H
BEGIN:VTIMEZONE
TZID:America/Los_Angeles
BEGIN:DAYLIGHT
TZOFFSETFROM:-0800
TZOFFSETTO:-0700
TZNAME:PDT
DTSTART:20280312T100000
END:DAYLIGHT
BEGIN:STANDARD
TZOFFSETFROM:-0700
TZOFFSETTO:-0800
TZNAME:PST
DTSTART:20281105T090000
END:STANDARD
BEGIN:DAYLIGHT
TZOFFSETFROM:-0800
TZOFFSETTO:-0700
TZNAME:PDT
DTSTART:20290311T100000
END:DAYLIGHT
BEGIN:STANDARD
TZOFFSETFROM:-0700
TZOFFSETTO:-0800
TZNAME:PST
DTSTART:20291104T090000
END:STANDARD
BEGIN:DAYLIGHT
TZOFFSETFROM:-0800
TZOFFSETTO:-0700
TZNAME:PDT
DTSTART:20300310T100000
END:DAYLIGHT
BEGIN:STANDARD
TZOFFSETFROM:-0700
TZOFFSETTO:-0800
TZNAME:PST
DTSTART:20301103T090000
END:STANDARD
END:VTIMEZONE
BEGIN:VTIMEZONE
TZID:America/Phoenix
BEGIN:STANDARD
TZOFFSETFROM:-0700
TZOFFSETTO:-0700
TZNAME:MST
DTSTART:20280101T000000
END:STANDARD
END:VTIMEZONE
BEGIN:VEVENT
DTSTART;TZID=America/Los_Angeles:20290818T090000
DTEND;TZID=America/Los_Angeles:20290818T110000
DTSTAMP:20260420T023856
CREATED:20240414T203520Z
LAST-MODIFIED:20240414T203520Z
UID:10003617-1881738000-1881745200@region51na.org
SUMMARY:Breakfast Speaker Jam
DESCRIPTION:1 Speaker\nFree Breakfast
URL:https://region51na.org/event/breakfast-speaker-jam-4/2029-08-18/
LOCATION:Keepin It Real\, 1100 Almond Tree Lane\, Las Vegas\, NV\, 89104\, United States
ORGANIZER;CN="Addict's Living In Recovery":MAILTO:fresha11freshera@gmail.com
END:VEVENT
BEGIN:VEVENT
DTSTART;TZID=America/Los_Angeles:20290821T180000
DTEND;TZID=America/Los_Angeles:20290821T200000
DTSTAMP:20260420T023856
CREATED:20230921T022855Z
LAST-MODIFIED:20260319T045452Z
UID:10003517-1882029600-1882036800@region51na.org
SUMMARY:Monthly South Valley ASC Meeting
DESCRIPTION:3rd Tuesday of every month 6pm to 8pm \nThis will be an in-person only meeting. Please send your reports by the Monday before the meeting. \nGSR orientations are held 30 minutes prior to ASC at 5:30 PM for any new GSRs and Alternate GSRs. \nPlease send your group reports back to this email secretary.svana@gmail.com \nPlease send your literature orders to svnalit@gmail.com \nPlease send donations to: \nVenmo: Search “NA South Valley Area” \nFor money orders/checks\, please mail to: \nSouth Valley Area of Narcotics Anonymous \nP.O. Box 20726 \nLas Vegas\, NV 89121
URL:https://region51na.org/event/monthly-south-valley-asc-meeting-4/2029-08-21/
LOCATION:Community Lutheran Church\, 3720 E Tropicana Ave.\, Las Vegas\, NV\, 89121
CATEGORIES:Region 51
END:VEVENT
BEGIN:VEVENT
DTSTART;TZID=America/Los_Angeles:20290821T183000
DTEND;TZID=America/Los_Angeles:20290821T203000
DTSTAMP:20260420T023856
CREATED:20220923T141135Z
LAST-MODIFIED:20230322T050722Z
UID:10003440-1882031400-1882038600@region51na.org
SUMMARY:Monthly NXNWANA ASC Meeting
DESCRIPTION:3rd Tuesday of Every month at 6:30PM \nTuesday at Mountain View Presbyterian Church at 8601 Del Webb Blvd\, Las Vegas\, NV 89134.
URL:https://region51na.org/event/monthly-nxnwana-asc-meeting/2029-08-21/
LOCATION:Mountain View Presbyterian Church\, 8601 Del Webb Blvd\, Las Veags\, NV\, 89134\, United States
CATEGORIES:Region 51
END:VEVENT
BEGIN:VEVENT
DTSTART;TZID=America/Los_Angeles:20290825T100000
DTEND;TZID=America/Los_Angeles:20290825T110000
DTSTAMP:20260420T023856
CREATED:20220923T141506Z
LAST-MODIFIED:20260314T000318Z
UID:10003481-1882346400-1882350000@region51na.org
SUMMARY:Monthly Sponsorship Behind the Walls Subcommittee Meeting
DESCRIPTION:When: Last Saturday of the month\nTime: 10:00 a.m.\nZoom Info: ID: 865 1019 5799 Passcode: 496529
URL:https://region51na.org/event/sbtw/2029-08-25/
LOCATION:Zoom
CATEGORIES:Region 51
END:VEVENT
BEGIN:VEVENT
DTSTART;TZID=America/Los_Angeles:20290901T110000
DTEND;TZID=America/Los_Angeles:20290901T130000
DTSTAMP:20260420T023856
CREATED:20230401T230535Z
LAST-MODIFIED:20250609T005100Z
UID:10002483-1882954800-1882962000@region51na.org
SUMMARY:Monthly H & I Subcommittee Meeting *REVISED LOCATION*
DESCRIPTION:Committee meets at 11am. Admin Body meets at 10am. 1st Saturday of each month ONLY in person. \n  \n4800 Alpine Place\n(Willow Room)\nLas Vegas\, NV 89107
URL:https://region51na.org/event/monthly-h-i-subcommittee-meeting-2/2029-09-01/
LOCATION:Foundation for Recovery\, 4800 Alpine Pl\, Las Vegas\, NV\, United States
CATEGORIES:Region 51
END:VEVENT
BEGIN:VEVENT
DTSTART;TZID=America/Los_Angeles:20290901T130000
DTEND;TZID=America/Los_Angeles:20290901T140000
DTSTAMP:20260420T023856
CREATED:20231017T013159Z
LAST-MODIFIED:20231017T013200Z
UID:10002002-1882962000-1882965600@region51na.org
SUMMARY:SN Area Unity and Activities meeting
DESCRIPTION:Monthly meeting
URL:https://region51na.org/event/sn-area-unity-and-activities-meeting-2-2/2029-09-01/
LOCATION:3M Club\, 1401 N Decatur Blvd\, Las Vegas\, NV\, 89108
CATEGORIES:Region 51
END:VEVENT
BEGIN:VEVENT
DTSTART;TZID=America/Los_Angeles:20290901T130000
DTEND;TZID=America/Los_Angeles:20290901T140000
DTSTAMP:20260420T023856
CREATED:20250812T174610Z
LAST-MODIFIED:20250812T174610Z
UID:10003093-1882962000-1882965600@region51na.org
SUMMARY:SN Area Unity and Activities meeting
DESCRIPTION:Monthly meeting
URL:https://region51na.org/event/sn-area-unity-and-activities-meeting-4/2029-09-01/
LOCATION:3M Club\, 1401 N Decatur Blvd\, Las Vegas\, NV\, 89108
CATEGORIES:Region 51
ATTACH;FMTTYPE=image/webp:https://region51na.org/wp-content/uploads/2025/08/Blush-White-Modern-Doodle-Hands-Charity-Donations-Flyer.webp
ORGANIZER;CN="Unities and Activities":MAILTO:dbakley13@gmail.com
END:VEVENT
BEGIN:VEVENT
DTSTART;TZID=America/Phoenix:20290902T140000
DTEND;TZID=America/Phoenix:20290902T170000
DTSTAMP:20260420T023856
CREATED:20220923T135732Z
LAST-MODIFIED:20220923T135732Z
UID:10003381-1883052000-1883062800@region51na.org
SUMMARY:Monthly CAN ASC Meeting
DESCRIPTION:1st Sunday of each month at 2pm AZ \nCAN zoom 879 1866 5974 \npd: 318686. \n1sr Sun of Month 2pm Arizona time
URL:https://region51na.org/event/monthly-can-asc-meeting/2029-09-02/
LOCATION:NV
CATEGORIES:Region 51
END:VEVENT
BEGIN:VEVENT
DTSTART;TZID=America/Los_Angeles:20290905T183000
DTEND;TZID=America/Los_Angeles:20290905T193000
DTSTAMP:20260420T023856
CREATED:20241217T184349Z
LAST-MODIFIED:20241217T184349Z
UID:10002360-1883327400-1883331000@region51na.org
SUMMARY:Addicts Together (1st) & 3rd week Speaker Meetings
DESCRIPTION:
URL:https://region51na.org/event/addicts-together-1st-3rd-week-speaker-meetings/2029-09-05/
LOCATION:Addicts Together\, 900 Liberace Ave. Suite A202 (Music Hall on 2nd Floor down from meeting location)\, Las Vegas\, NV\, 89109\, United States
CATEGORIES:Region 51
ATTACH;FMTTYPE=image/webp:https://region51na.org/wp-content/uploads/2024/12/AT-SpeakerMeetings-1.webp
END:VEVENT
BEGIN:VEVENT
DTSTART;TZID=America/Los_Angeles:20290908T133000
DTEND;TZID=America/Los_Angeles:20290908T160000
DTSTAMP:20260420T023856
CREATED:20220923T140010Z
LAST-MODIFIED:20241106T201609Z
UID:10002218-1883568600-1883577600@region51na.org
SUMMARY:Monthly Southern Utah ASC Meeting
DESCRIPTION:2nd Saturday of the month  2:30 pm – 5 pm MS \nZoom ID Pending
URL:https://region51na.org/event/monthly-southern-utah-asc-meeting/2029-09-08/
LOCATION:NV
CATEGORIES:Region 51
END:VEVENT
BEGIN:VEVENT
DTSTART;TZID=America/Los_Angeles:20290909T130000
DTEND;TZID=America/Los_Angeles:20290909T150000
DTSTAMP:20260420T023856
CREATED:20220923T140204Z
LAST-MODIFIED:20250609T012233Z
UID:10002591-1883653200-1883660400@region51na.org
SUMMARY:Monthly Southern Nevada ASC Meeting *UPDATED LOCATION*
DESCRIPTION:Committee meets at 1PM.  Admin body meets at 12PM. \n  \nSouthern Nevada ASC meets the 2nd Sunday of each month. \n1100 Almond Tree Ln \nLas Vegas\, NV 89104
URL:https://region51na.org/event/monthly-southern-nevada-asc-meeting/2029-09-09/
LOCATION:Keepin It Real\, 1100 Almond Tree Lane\, Las Vegas\, NV\, 89104\, United States
CATEGORIES:Region 51
END:VEVENT
BEGIN:VEVENT
DTSTART;TZID=America/Los_Angeles:20290915T090000
DTEND;TZID=America/Los_Angeles:20290915T110000
DTSTAMP:20260420T023856
CREATED:20240414T203520Z
LAST-MODIFIED:20240414T203520Z
UID:10003618-1884157200-1884164400@region51na.org
SUMMARY:Breakfast Speaker Jam
DESCRIPTION:1 Speaker\nFree Breakfast
URL:https://region51na.org/event/breakfast-speaker-jam-4/2029-09-15/
LOCATION:Keepin It Real\, 1100 Almond Tree Lane\, Las Vegas\, NV\, 89104\, United States
ORGANIZER;CN="Addict's Living In Recovery":MAILTO:fresha11freshera@gmail.com
END:VEVENT
BEGIN:VEVENT
DTSTART;TZID=America/Los_Angeles:20290916T113000
DTEND;TZID=America/Los_Angeles:20290916T143000
DTSTAMP:20260420T023856
CREATED:20221017T043623Z
LAST-MODIFIED:20250603T051649Z
UID:10002560-1884252600-1884263400@region51na.org
SUMMARY:Regional Service Committee (RSC) meeting
DESCRIPTION:RSC meets in person only\, every other month\, on the 3rd Sunday at The Rooms-4800 Alpine Place.
URL:https://region51na.org/event/regional-service-committee-rsc-meeting/2029-09-16/
LOCATION:Foundation for Recovery\, 4800 Alpine Pl\, Las Vegas\, NV\, United States
CATEGORIES:Region 51
END:VEVENT
BEGIN:VEVENT
DTSTART;TZID=America/Los_Angeles:20290918T180000
DTEND;TZID=America/Los_Angeles:20290918T200000
DTSTAMP:20260420T023856
CREATED:20230921T022855Z
LAST-MODIFIED:20260319T045452Z
UID:10003518-1884448800-1884456000@region51na.org
SUMMARY:Monthly South Valley ASC Meeting
DESCRIPTION:3rd Tuesday of every month 6pm to 8pm \nThis will be an in-person only meeting. Please send your reports by the Monday before the meeting. \nGSR orientations are held 30 minutes prior to ASC at 5:30 PM for any new GSRs and Alternate GSRs. \nPlease send your group reports back to this email secretary.svana@gmail.com \nPlease send your literature orders to svnalit@gmail.com \nPlease send donations to: \nVenmo: Search “NA South Valley Area” \nFor money orders/checks\, please mail to: \nSouth Valley Area of Narcotics Anonymous \nP.O. Box 20726 \nLas Vegas\, NV 89121
URL:https://region51na.org/event/monthly-south-valley-asc-meeting-4/2029-09-18/
LOCATION:Community Lutheran Church\, 3720 E Tropicana Ave.\, Las Vegas\, NV\, 89121
CATEGORIES:Region 51
END:VEVENT
BEGIN:VEVENT
DTSTART;TZID=America/Los_Angeles:20290918T183000
DTEND;TZID=America/Los_Angeles:20290918T203000
DTSTAMP:20260420T023856
CREATED:20220923T141135Z
LAST-MODIFIED:20230322T050722Z
UID:10003441-1884450600-1884457800@region51na.org
SUMMARY:Monthly NXNWANA ASC Meeting
DESCRIPTION:3rd Tuesday of Every month at 6:30PM \nTuesday at Mountain View Presbyterian Church at 8601 Del Webb Blvd\, Las Vegas\, NV 89134.
URL:https://region51na.org/event/monthly-nxnwana-asc-meeting/2029-09-18/
LOCATION:Mountain View Presbyterian Church\, 8601 Del Webb Blvd\, Las Veags\, NV\, 89134\, United States
CATEGORIES:Region 51
END:VEVENT
BEGIN:VEVENT
DTSTART;TZID=America/Los_Angeles:20290919T183000
DTEND;TZID=America/Los_Angeles:20290919T193000
DTSTAMP:20260420T023856
CREATED:20241217T184600Z
LAST-MODIFIED:20241217T184902Z
UID:10002421-1884537000-1884540600@region51na.org
SUMMARY:Addicts Together 1st & (3rd) week Speaker Meetings
DESCRIPTION:Addicts Together 1st & (3rd) week Speaker Meetings
URL:https://region51na.org/event/addicts-together-1st-3rd-week-speaker-meetings-2/2029-09-19/
LOCATION:Addicts Together\, 900 Liberace Ave. Suite A202 (Music Hall on 2nd Floor down from meeting location)\, Las Vegas\, NV\, 89109\, United States
CATEGORIES:Region 51
ATTACH;FMTTYPE=image/webp:https://region51na.org/wp-content/uploads/2024/12/AT-SpeakerMeetings-1.webp
END:VEVENT
BEGIN:VEVENT
DTSTART;TZID=America/Los_Angeles:20290929T100000
DTEND;TZID=America/Los_Angeles:20290929T110000
DTSTAMP:20260420T023856
CREATED:20220923T141506Z
LAST-MODIFIED:20260314T000318Z
UID:10003482-1885370400-1885374000@region51na.org
SUMMARY:Monthly Sponsorship Behind the Walls Subcommittee Meeting
DESCRIPTION:When: Last Saturday of the month\nTime: 10:00 a.m.\nZoom Info: ID: 865 1019 5799 Passcode: 496529
URL:https://region51na.org/event/sbtw/2029-09-29/
LOCATION:Zoom
CATEGORIES:Region 51
END:VEVENT
BEGIN:VEVENT
DTSTART;TZID=America/Los_Angeles:20291003T183000
DTEND;TZID=America/Los_Angeles:20291003T193000
DTSTAMP:20260420T023856
CREATED:20241217T184349Z
LAST-MODIFIED:20241217T184349Z
UID:10002361-1885746600-1885750200@region51na.org
SUMMARY:Addicts Together (1st) & 3rd week Speaker Meetings
DESCRIPTION:
URL:https://region51na.org/event/addicts-together-1st-3rd-week-speaker-meetings/2029-10-03/
LOCATION:Addicts Together\, 900 Liberace Ave. Suite A202 (Music Hall on 2nd Floor down from meeting location)\, Las Vegas\, NV\, 89109\, United States
CATEGORIES:Region 51
ATTACH;FMTTYPE=image/webp:https://region51na.org/wp-content/uploads/2024/12/AT-SpeakerMeetings-1.webp
END:VEVENT
BEGIN:VEVENT
DTSTART;TZID=America/Los_Angeles:20291006T110000
DTEND;TZID=America/Los_Angeles:20291006T130000
DTSTAMP:20260420T023856
CREATED:20230401T230535Z
LAST-MODIFIED:20250609T005100Z
UID:10002484-1885978800-1885986000@region51na.org
SUMMARY:Monthly H & I Subcommittee Meeting *REVISED LOCATION*
DESCRIPTION:Committee meets at 11am. Admin Body meets at 10am. 1st Saturday of each month ONLY in person. \n  \n4800 Alpine Place\n(Willow Room)\nLas Vegas\, NV 89107
URL:https://region51na.org/event/monthly-h-i-subcommittee-meeting-2/2029-10-06/
LOCATION:Foundation for Recovery\, 4800 Alpine Pl\, Las Vegas\, NV\, United States
CATEGORIES:Region 51
END:VEVENT
BEGIN:VEVENT
DTSTART;TZID=America/Los_Angeles:20291006T130000
DTEND;TZID=America/Los_Angeles:20291006T140000
DTSTAMP:20260420T023856
CREATED:20231017T013159Z
LAST-MODIFIED:20231017T013200Z
UID:10003536-1885986000-1885989600@region51na.org
SUMMARY:SN Area Unity and Activities meeting
DESCRIPTION:Monthly meeting
URL:https://region51na.org/event/sn-area-unity-and-activities-meeting-2-2/2029-10-06/
LOCATION:3M Club\, 1401 N Decatur Blvd\, Las Vegas\, NV\, 89108
CATEGORIES:Region 51
END:VEVENT
BEGIN:VEVENT
DTSTART;TZID=America/Los_Angeles:20291006T130000
DTEND;TZID=America/Los_Angeles:20291006T140000
DTSTAMP:20260420T023856
CREATED:20250812T174610Z
LAST-MODIFIED:20250812T174610Z
UID:10003094-1885986000-1885989600@region51na.org
SUMMARY:SN Area Unity and Activities meeting
DESCRIPTION:Monthly meeting
URL:https://region51na.org/event/sn-area-unity-and-activities-meeting-4/2029-10-06/
LOCATION:3M Club\, 1401 N Decatur Blvd\, Las Vegas\, NV\, 89108
CATEGORIES:Region 51
ATTACH;FMTTYPE=image/webp:https://region51na.org/wp-content/uploads/2025/08/Blush-White-Modern-Doodle-Hands-Charity-Donations-Flyer.webp
ORGANIZER;CN="Unities and Activities":MAILTO:dbakley13@gmail.com
END:VEVENT
BEGIN:VEVENT
DTSTART;TZID=America/Phoenix:20291007T140000
DTEND;TZID=America/Phoenix:20291007T170000
DTSTAMP:20260420T023856
CREATED:20220923T135732Z
LAST-MODIFIED:20220923T135732Z
UID:10003382-1886076000-1886086800@region51na.org
SUMMARY:Monthly CAN ASC Meeting
DESCRIPTION:1st Sunday of each month at 2pm AZ \nCAN zoom 879 1866 5974 \npd: 318686. \n1sr Sun of Month 2pm Arizona time
URL:https://region51na.org/event/monthly-can-asc-meeting/2029-10-07/
LOCATION:NV
CATEGORIES:Region 51
END:VEVENT
BEGIN:VEVENT
DTSTART;TZID=America/Los_Angeles:20291013T133000
DTEND;TZID=America/Los_Angeles:20291013T160000
DTSTAMP:20260420T023856
CREATED:20220923T140010Z
LAST-MODIFIED:20241106T201609Z
UID:10002219-1886592600-1886601600@region51na.org
SUMMARY:Monthly Southern Utah ASC Meeting
DESCRIPTION:2nd Saturday of the month  2:30 pm – 5 pm MS \nZoom ID Pending
URL:https://region51na.org/event/monthly-southern-utah-asc-meeting/2029-10-13/
LOCATION:NV
CATEGORIES:Region 51
END:VEVENT
BEGIN:VEVENT
DTSTART;TZID=America/Los_Angeles:20291014T130000
DTEND;TZID=America/Los_Angeles:20291014T150000
DTSTAMP:20260420T023856
CREATED:20220923T140204Z
LAST-MODIFIED:20250609T012233Z
UID:10002592-1886677200-1886684400@region51na.org
SUMMARY:Monthly Southern Nevada ASC Meeting *UPDATED LOCATION*
DESCRIPTION:Committee meets at 1PM.  Admin body meets at 12PM. \n  \nSouthern Nevada ASC meets the 2nd Sunday of each month. \n1100 Almond Tree Ln \nLas Vegas\, NV 89104
URL:https://region51na.org/event/monthly-southern-nevada-asc-meeting/2029-10-14/
LOCATION:Keepin It Real\, 1100 Almond Tree Lane\, Las Vegas\, NV\, 89104\, United States
CATEGORIES:Region 51
END:VEVENT
BEGIN:VEVENT
DTSTART;TZID=America/Los_Angeles:20291016T180000
DTEND;TZID=America/Los_Angeles:20291016T200000
DTSTAMP:20260420T023856
CREATED:20230921T022855Z
LAST-MODIFIED:20260319T045452Z
UID:10003519-1886868000-1886875200@region51na.org
SUMMARY:Monthly South Valley ASC Meeting
DESCRIPTION:3rd Tuesday of every month 6pm to 8pm \nThis will be an in-person only meeting. Please send your reports by the Monday before the meeting. \nGSR orientations are held 30 minutes prior to ASC at 5:30 PM for any new GSRs and Alternate GSRs. \nPlease send your group reports back to this email secretary.svana@gmail.com \nPlease send your literature orders to svnalit@gmail.com \nPlease send donations to: \nVenmo: Search “NA South Valley Area” \nFor money orders/checks\, please mail to: \nSouth Valley Area of Narcotics Anonymous \nP.O. Box 20726 \nLas Vegas\, NV 89121
URL:https://region51na.org/event/monthly-south-valley-asc-meeting-4/2029-10-16/
LOCATION:Community Lutheran Church\, 3720 E Tropicana Ave.\, Las Vegas\, NV\, 89121
CATEGORIES:Region 51
END:VEVENT
BEGIN:VEVENT
DTSTART;TZID=America/Los_Angeles:20291016T183000
DTEND;TZID=America/Los_Angeles:20291016T203000
DTSTAMP:20260420T023856
CREATED:20220923T141135Z
LAST-MODIFIED:20230322T050722Z
UID:10003442-1886869800-1886877000@region51na.org
SUMMARY:Monthly NXNWANA ASC Meeting
DESCRIPTION:3rd Tuesday of Every month at 6:30PM \nTuesday at Mountain View Presbyterian Church at 8601 Del Webb Blvd\, Las Vegas\, NV 89134.
URL:https://region51na.org/event/monthly-nxnwana-asc-meeting/2029-10-16/
LOCATION:Mountain View Presbyterian Church\, 8601 Del Webb Blvd\, Las Veags\, NV\, 89134\, United States
CATEGORIES:Region 51
END:VEVENT
BEGIN:VEVENT
DTSTART;TZID=America/Los_Angeles:20291017T183000
DTEND;TZID=America/Los_Angeles:20291017T193000
DTSTAMP:20260420T023856
CREATED:20241217T184600Z
LAST-MODIFIED:20241217T184902Z
UID:10002422-1886956200-1886959800@region51na.org
SUMMARY:Addicts Together 1st & (3rd) week Speaker Meetings
DESCRIPTION:Addicts Together 1st & (3rd) week Speaker Meetings
URL:https://region51na.org/event/addicts-together-1st-3rd-week-speaker-meetings-2/2029-10-17/
LOCATION:Addicts Together\, 900 Liberace Ave. Suite A202 (Music Hall on 2nd Floor down from meeting location)\, Las Vegas\, NV\, 89109\, United States
CATEGORIES:Region 51
ATTACH;FMTTYPE=image/webp:https://region51na.org/wp-content/uploads/2024/12/AT-SpeakerMeetings-1.webp
END:VEVENT
BEGIN:VEVENT
DTSTART;TZID=America/Los_Angeles:20291020T090000
DTEND;TZID=America/Los_Angeles:20291020T110000
DTSTAMP:20260420T023856
CREATED:20240414T203520Z
LAST-MODIFIED:20240414T203520Z
UID:10003619-1887181200-1887188400@region51na.org
SUMMARY:Breakfast Speaker Jam
DESCRIPTION:1 Speaker\nFree Breakfast
URL:https://region51na.org/event/breakfast-speaker-jam-4/2029-10-20/
LOCATION:Keepin It Real\, 1100 Almond Tree Lane\, Las Vegas\, NV\, 89104\, United States
ORGANIZER;CN="Addict's Living In Recovery":MAILTO:fresha11freshera@gmail.com
END:VEVENT
BEGIN:VEVENT
DTSTART;TZID=America/Los_Angeles:20291027T100000
DTEND;TZID=America/Los_Angeles:20291027T110000
DTSTAMP:20260420T023856
CREATED:20220923T141506Z
LAST-MODIFIED:20260314T000318Z
UID:10003483-1887789600-1887793200@region51na.org
SUMMARY:Monthly Sponsorship Behind the Walls Subcommittee Meeting
DESCRIPTION:When: Last Saturday of the month\nTime: 10:00 a.m.\nZoom Info: ID: 865 1019 5799 Passcode: 496529
URL:https://region51na.org/event/sbtw/2029-10-27/
LOCATION:Zoom
CATEGORIES:Region 51
END:VEVENT
BEGIN:VEVENT
DTSTART;TZID=America/Los_Angeles:20291103T110000
DTEND;TZID=America/Los_Angeles:20291103T130000
DTSTAMP:20260420T023856
CREATED:20230401T230535Z
LAST-MODIFIED:20250609T005100Z
UID:10002485-1888398000-1888405200@region51na.org
SUMMARY:Monthly H & I Subcommittee Meeting *REVISED LOCATION*
DESCRIPTION:Committee meets at 11am. Admin Body meets at 10am. 1st Saturday of each month ONLY in person. \n  \n4800 Alpine Place\n(Willow Room)\nLas Vegas\, NV 89107
URL:https://region51na.org/event/monthly-h-i-subcommittee-meeting-2/2029-11-03/
LOCATION:Foundation for Recovery\, 4800 Alpine Pl\, Las Vegas\, NV\, United States
CATEGORIES:Region 51
END:VEVENT
END:VCALENDAR