BEGIN:VCALENDAR
VERSION:2.0
PRODID:-//Region 51 of Narcotics Anonymous - ECPv6.15.17.1//NONSGML v1.0//EN
CALSCALE:GREGORIAN
METHOD:PUBLISH
X-WR-CALNAME:Region 51 of Narcotics Anonymous
X-ORIGINAL-URL:https://region51na.org
X-WR-CALDESC:Events for Region 51 of Narcotics Anonymous
REFRESH-INTERVAL;VALUE=DURATION:PT1H
X-Robots-Tag:noindex
X-PUBLISHED-TTL:PT1H
BEGIN:VTIMEZONE
TZID:America/Phoenix
BEGIN:STANDARD
TZOFFSETFROM:-0700
TZOFFSETTO:-0700
TZNAME:MST
DTSTART:20290101T000000
END:STANDARD
END:VTIMEZONE
BEGIN:VTIMEZONE
TZID:America/Los_Angeles
BEGIN:DAYLIGHT
TZOFFSETFROM:-0800
TZOFFSETTO:-0700
TZNAME:PDT
DTSTART:20290311T100000
END:DAYLIGHT
BEGIN:STANDARD
TZOFFSETFROM:-0700
TZOFFSETTO:-0800
TZNAME:PST
DTSTART:20291104T090000
END:STANDARD
BEGIN:DAYLIGHT
TZOFFSETFROM:-0800
TZOFFSETTO:-0700
TZNAME:PDT
DTSTART:20300310T100000
END:DAYLIGHT
BEGIN:STANDARD
TZOFFSETFROM:-0700
TZOFFSETTO:-0800
TZNAME:PST
DTSTART:20301103T090000
END:STANDARD
BEGIN:DAYLIGHT
TZOFFSETFROM:-0800
TZOFFSETTO:-0700
TZNAME:PDT
DTSTART:20310309T100000
END:DAYLIGHT
BEGIN:STANDARD
TZOFFSETFROM:-0700
TZOFFSETTO:-0800
TZNAME:PST
DTSTART:20311102T090000
END:STANDARD
END:VTIMEZONE
BEGIN:VEVENT
DTSTART;TZID=America/Phoenix:20300602T140000
DTEND;TZID=America/Phoenix:20300602T170000
DTSTAMP:20260420T171240
CREATED:20220923T135732Z
LAST-MODIFIED:20220923T135732Z
UID:10003390-1906639200-1906650000@region51na.org
SUMMARY:Monthly CAN ASC Meeting
DESCRIPTION:1st Sunday of each month at 2pm AZ \nCAN zoom 879 1866 5974 \npd: 318686. \n1sr Sun of Month 2pm Arizona time
URL:https://region51na.org/event/monthly-can-asc-meeting/2030-06-02/
LOCATION:NV
CATEGORIES:Region 51
END:VEVENT
BEGIN:VEVENT
DTSTART;TZID=America/Los_Angeles:20300605T183000
DTEND;TZID=America/Los_Angeles:20300605T193000
DTSTAMP:20260420T171240
CREATED:20241217T184349Z
LAST-MODIFIED:20241217T184349Z
UID:10003650-1906914600-1906918200@region51na.org
SUMMARY:Addicts Together (1st) & 3rd week Speaker Meetings
DESCRIPTION:
URL:https://region51na.org/event/addicts-together-1st-3rd-week-speaker-meetings/2030-06-05/
LOCATION:Addicts Together\, 900 Liberace Ave. Suite A202 (Music Hall on 2nd Floor down from meeting location)\, Las Vegas\, NV\, 89109\, United States
CATEGORIES:Region 51
ATTACH;FMTTYPE=image/webp:https://region51na.org/wp-content/uploads/2024/12/AT-SpeakerMeetings-1.webp
END:VEVENT
BEGIN:VEVENT
DTSTART;TZID=America/Los_Angeles:20300608T133000
DTEND;TZID=America/Los_Angeles:20300608T160000
DTSTAMP:20260420T171240
CREATED:20220923T140010Z
LAST-MODIFIED:20241106T201609Z
UID:10003406-1907155800-1907164800@region51na.org
SUMMARY:Monthly Southern Utah ASC Meeting
DESCRIPTION:2nd Saturday of the month  2:30 pm – 5 pm MS \nZoom ID Pending
URL:https://region51na.org/event/monthly-southern-utah-asc-meeting/2030-06-08/
LOCATION:NV
CATEGORIES:Region 51
END:VEVENT
BEGIN:VEVENT
DTSTART;TZID=America/Los_Angeles:20300609T130000
DTEND;TZID=America/Los_Angeles:20300609T150000
DTSTAMP:20260420T171240
CREATED:20220923T140204Z
LAST-MODIFIED:20250609T012233Z
UID:10003415-1907240400-1907247600@region51na.org
SUMMARY:Monthly Southern Nevada ASC Meeting *UPDATED LOCATION*
DESCRIPTION:Committee meets at 1PM.  Admin body meets at 12PM. \n  \nSouthern Nevada ASC meets the 2nd Sunday of each month. \n1100 Almond Tree Ln \nLas Vegas\, NV 89104
URL:https://region51na.org/event/monthly-southern-nevada-asc-meeting/2030-06-09/
LOCATION:Keepin It Real\, 1100 Almond Tree Lane\, Las Vegas\, NV\, 89104\, United States
CATEGORIES:Region 51
END:VEVENT
BEGIN:VEVENT
DTSTART;TZID=America/Los_Angeles:20300615T090000
DTEND;TZID=America/Los_Angeles:20300615T110000
DTSTAMP:20260420T171240
CREATED:20240414T203520Z
LAST-MODIFIED:20240414T203520Z
UID:10003627-1907744400-1907751600@region51na.org
SUMMARY:Breakfast Speaker Jam
DESCRIPTION:1 Speaker\nFree Breakfast
URL:https://region51na.org/event/breakfast-speaker-jam-4/2030-06-15/
LOCATION:Keepin It Real\, 1100 Almond Tree Lane\, Las Vegas\, NV\, 89104\, United States
ORGANIZER;CN="Addict's Living In Recovery":MAILTO:fresha11freshera@gmail.com
END:VEVENT
BEGIN:VEVENT
DTSTART;TZID=America/Los_Angeles:20300618T180000
DTEND;TZID=America/Los_Angeles:20300618T200000
DTSTAMP:20260420T171240
CREATED:20230921T022855Z
LAST-MODIFIED:20260319T045452Z
UID:10003527-1908036000-1908043200@region51na.org
SUMMARY:Monthly South Valley ASC Meeting
DESCRIPTION:3rd Tuesday of every month 6pm to 8pm \nThis will be an in-person only meeting. Please send your reports by the Monday before the meeting. \nGSR orientations are held 30 minutes prior to ASC at 5:30 PM for any new GSRs and Alternate GSRs. \nPlease send your group reports back to this email secretary.svana@gmail.com \nPlease send your literature orders to svnalit@gmail.com \nPlease send donations to: \nVenmo: Search “NA South Valley Area” \nFor money orders/checks\, please mail to: \nSouth Valley Area of Narcotics Anonymous \nP.O. Box 20726 \nLas Vegas\, NV 89121
URL:https://region51na.org/event/monthly-south-valley-asc-meeting-4/2030-06-18/
LOCATION:Community Lutheran Church\, 3720 E Tropicana Ave.\, Las Vegas\, NV\, 89121
CATEGORIES:Region 51
END:VEVENT
BEGIN:VEVENT
DTSTART;TZID=America/Los_Angeles:20300618T183000
DTEND;TZID=America/Los_Angeles:20300618T203000
DTSTAMP:20260420T171240
CREATED:20220923T141135Z
LAST-MODIFIED:20230322T050722Z
UID:10003450-1908037800-1908045000@region51na.org
SUMMARY:Monthly NXNWANA ASC Meeting
DESCRIPTION:3rd Tuesday of Every month at 6:30PM \nTuesday at Mountain View Presbyterian Church at 8601 Del Webb Blvd\, Las Vegas\, NV 89134.
URL:https://region51na.org/event/monthly-nxnwana-asc-meeting/2030-06-18/
LOCATION:Mountain View Presbyterian Church\, 8601 Del Webb Blvd\, Las Veags\, NV\, 89134\, United States
CATEGORIES:Region 51
END:VEVENT
BEGIN:VEVENT
DTSTART;TZID=America/Los_Angeles:20300619T183000
DTEND;TZID=America/Los_Angeles:20300619T193000
DTSTAMP:20260420T171240
CREATED:20241217T184600Z
LAST-MODIFIED:20241217T184902Z
UID:10003666-1908124200-1908127800@region51na.org
SUMMARY:Addicts Together 1st & (3rd) week Speaker Meetings
DESCRIPTION:Addicts Together 1st & (3rd) week Speaker Meetings
URL:https://region51na.org/event/addicts-together-1st-3rd-week-speaker-meetings-2/2030-06-19/
LOCATION:Addicts Together\, 900 Liberace Ave. Suite A202 (Music Hall on 2nd Floor down from meeting location)\, Las Vegas\, NV\, 89109\, United States
CATEGORIES:Region 51
ATTACH;FMTTYPE=image/webp:https://region51na.org/wp-content/uploads/2024/12/AT-SpeakerMeetings-1.webp
END:VEVENT
BEGIN:VEVENT
DTSTART;TZID=America/Los_Angeles:20300629T100000
DTEND;TZID=America/Los_Angeles:20300629T110000
DTSTAMP:20260420T171240
CREATED:20220923T141506Z
LAST-MODIFIED:20260314T000318Z
UID:10003491-1908957600-1908961200@region51na.org
SUMMARY:Monthly Sponsorship Behind the Walls Subcommittee Meeting
DESCRIPTION:When: Last Saturday of the month\nTime: 10:00 a.m.\nZoom Info: ID: 865 1019 5799 Passcode: 496529
URL:https://region51na.org/event/sbtw/2030-06-29/
LOCATION:Zoom
CATEGORIES:Region 51
END:VEVENT
BEGIN:VEVENT
DTSTART;TZID=America/Los_Angeles:20300703T183000
DTEND;TZID=America/Los_Angeles:20300703T193000
DTSTAMP:20260420T171240
CREATED:20241217T184349Z
LAST-MODIFIED:20241217T184349Z
UID:10003651-1909333800-1909337400@region51na.org
SUMMARY:Addicts Together (1st) & 3rd week Speaker Meetings
DESCRIPTION:
URL:https://region51na.org/event/addicts-together-1st-3rd-week-speaker-meetings/2030-07-03/
LOCATION:Addicts Together\, 900 Liberace Ave. Suite A202 (Music Hall on 2nd Floor down from meeting location)\, Las Vegas\, NV\, 89109\, United States
CATEGORIES:Region 51
ATTACH;FMTTYPE=image/webp:https://region51na.org/wp-content/uploads/2024/12/AT-SpeakerMeetings-1.webp
END:VEVENT
BEGIN:VEVENT
DTSTART;TZID=America/Los_Angeles:20300706T110000
DTEND;TZID=America/Los_Angeles:20300706T130000
DTSTAMP:20260420T171240
CREATED:20230401T230535Z
LAST-MODIFIED:20250609T005100Z
UID:10003241-1909566000-1909573200@region51na.org
SUMMARY:Monthly H & I Subcommittee Meeting *REVISED LOCATION*
DESCRIPTION:Committee meets at 11am. Admin Body meets at 10am. 1st Saturday of each month ONLY in person. \n  \n4800 Alpine Place\n(Willow Room)\nLas Vegas\, NV 89107
URL:https://region51na.org/event/monthly-h-i-subcommittee-meeting-2/2030-07-06/
LOCATION:Foundation for Recovery\, 4800 Alpine Pl\, Las Vegas\, NV\, United States
CATEGORIES:Region 51
END:VEVENT
BEGIN:VEVENT
DTSTART;TZID=America/Los_Angeles:20300706T130000
DTEND;TZID=America/Los_Angeles:20300706T140000
DTSTAMP:20260420T171240
CREATED:20231017T013159Z
LAST-MODIFIED:20231017T013200Z
UID:10003545-1909573200-1909576800@region51na.org
SUMMARY:SN Area Unity and Activities meeting
DESCRIPTION:Monthly meeting
URL:https://region51na.org/event/sn-area-unity-and-activities-meeting-2-2/2030-07-06/
LOCATION:3M Club\, 1401 N Decatur Blvd\, Las Vegas\, NV\, 89108
CATEGORIES:Region 51
END:VEVENT
BEGIN:VEVENT
DTSTART;TZID=America/Los_Angeles:20300706T130000
DTEND;TZID=America/Los_Angeles:20300706T140000
DTSTAMP:20260420T171240
CREATED:20250812T174610Z
LAST-MODIFIED:20250812T174610Z
UID:10003103-1909573200-1909576800@region51na.org
SUMMARY:SN Area Unity and Activities meeting
DESCRIPTION:Monthly meeting
URL:https://region51na.org/event/sn-area-unity-and-activities-meeting-4/2030-07-06/
LOCATION:3M Club\, 1401 N Decatur Blvd\, Las Vegas\, NV\, 89108
CATEGORIES:Region 51
ATTACH;FMTTYPE=image/webp:https://region51na.org/wp-content/uploads/2025/08/Blush-White-Modern-Doodle-Hands-Charity-Donations-Flyer.webp
ORGANIZER;CN="Unities and Activities":MAILTO:dbakley13@gmail.com
END:VEVENT
BEGIN:VEVENT
DTSTART;TZID=America/Phoenix:20300707T140000
DTEND;TZID=America/Phoenix:20300707T170000
DTSTAMP:20260420T171240
CREATED:20220923T135732Z
LAST-MODIFIED:20220923T135732Z
UID:10003391-1909663200-1909674000@region51na.org
SUMMARY:Monthly CAN ASC Meeting
DESCRIPTION:1st Sunday of each month at 2pm AZ \nCAN zoom 879 1866 5974 \npd: 318686. \n1sr Sun of Month 2pm Arizona time
URL:https://region51na.org/event/monthly-can-asc-meeting/2030-07-07/
LOCATION:NV
CATEGORIES:Region 51
END:VEVENT
BEGIN:VEVENT
DTSTART;TZID=America/Los_Angeles:20300713T133000
DTEND;TZID=America/Los_Angeles:20300713T160000
DTSTAMP:20260420T171240
CREATED:20220923T140010Z
LAST-MODIFIED:20241106T201609Z
UID:10003407-1910179800-1910188800@region51na.org
SUMMARY:Monthly Southern Utah ASC Meeting
DESCRIPTION:2nd Saturday of the month  2:30 pm – 5 pm MS \nZoom ID Pending
URL:https://region51na.org/event/monthly-southern-utah-asc-meeting/2030-07-13/
LOCATION:NV
CATEGORIES:Region 51
END:VEVENT
BEGIN:VEVENT
DTSTART;TZID=America/Los_Angeles:20300714T130000
DTEND;TZID=America/Los_Angeles:20300714T150000
DTSTAMP:20260420T171240
CREATED:20220923T140204Z
LAST-MODIFIED:20250609T012233Z
UID:10003416-1910264400-1910271600@region51na.org
SUMMARY:Monthly Southern Nevada ASC Meeting *UPDATED LOCATION*
DESCRIPTION:Committee meets at 1PM.  Admin body meets at 12PM. \n  \nSouthern Nevada ASC meets the 2nd Sunday of each month. \n1100 Almond Tree Ln \nLas Vegas\, NV 89104
URL:https://region51na.org/event/monthly-southern-nevada-asc-meeting/2030-07-14/
LOCATION:Keepin It Real\, 1100 Almond Tree Lane\, Las Vegas\, NV\, 89104\, United States
CATEGORIES:Region 51
END:VEVENT
BEGIN:VEVENT
DTSTART;TZID=America/Los_Angeles:20300716T180000
DTEND;TZID=America/Los_Angeles:20300716T200000
DTSTAMP:20260420T171240
CREATED:20230921T022855Z
LAST-MODIFIED:20260319T045452Z
UID:10003528-1910455200-1910462400@region51na.org
SUMMARY:Monthly South Valley ASC Meeting
DESCRIPTION:3rd Tuesday of every month 6pm to 8pm \nThis will be an in-person only meeting. Please send your reports by the Monday before the meeting. \nGSR orientations are held 30 minutes prior to ASC at 5:30 PM for any new GSRs and Alternate GSRs. \nPlease send your group reports back to this email secretary.svana@gmail.com \nPlease send your literature orders to svnalit@gmail.com \nPlease send donations to: \nVenmo: Search “NA South Valley Area” \nFor money orders/checks\, please mail to: \nSouth Valley Area of Narcotics Anonymous \nP.O. Box 20726 \nLas Vegas\, NV 89121
URL:https://region51na.org/event/monthly-south-valley-asc-meeting-4/2030-07-16/
LOCATION:Community Lutheran Church\, 3720 E Tropicana Ave.\, Las Vegas\, NV\, 89121
CATEGORIES:Region 51
END:VEVENT
BEGIN:VEVENT
DTSTART;TZID=America/Los_Angeles:20300716T183000
DTEND;TZID=America/Los_Angeles:20300716T203000
DTSTAMP:20260420T171240
CREATED:20220923T141135Z
LAST-MODIFIED:20230322T050722Z
UID:10003451-1910457000-1910464200@region51na.org
SUMMARY:Monthly NXNWANA ASC Meeting
DESCRIPTION:3rd Tuesday of Every month at 6:30PM \nTuesday at Mountain View Presbyterian Church at 8601 Del Webb Blvd\, Las Vegas\, NV 89134.
URL:https://region51na.org/event/monthly-nxnwana-asc-meeting/2030-07-16/
LOCATION:Mountain View Presbyterian Church\, 8601 Del Webb Blvd\, Las Veags\, NV\, 89134\, United States
CATEGORIES:Region 51
END:VEVENT
BEGIN:VEVENT
DTSTART;TZID=America/Los_Angeles:20300717T183000
DTEND;TZID=America/Los_Angeles:20300717T193000
DTSTAMP:20260420T171240
CREATED:20241217T184600Z
LAST-MODIFIED:20241217T184902Z
UID:10003667-1910543400-1910547000@region51na.org
SUMMARY:Addicts Together 1st & (3rd) week Speaker Meetings
DESCRIPTION:Addicts Together 1st & (3rd) week Speaker Meetings
URL:https://region51na.org/event/addicts-together-1st-3rd-week-speaker-meetings-2/2030-07-17/
LOCATION:Addicts Together\, 900 Liberace Ave. Suite A202 (Music Hall on 2nd Floor down from meeting location)\, Las Vegas\, NV\, 89109\, United States
CATEGORIES:Region 51
ATTACH;FMTTYPE=image/webp:https://region51na.org/wp-content/uploads/2024/12/AT-SpeakerMeetings-1.webp
END:VEVENT
BEGIN:VEVENT
DTSTART;TZID=America/Los_Angeles:20300720T090000
DTEND;TZID=America/Los_Angeles:20300720T110000
DTSTAMP:20260420T171240
CREATED:20240414T203520Z
LAST-MODIFIED:20240414T203520Z
UID:10003628-1910768400-1910775600@region51na.org
SUMMARY:Breakfast Speaker Jam
DESCRIPTION:1 Speaker\nFree Breakfast
URL:https://region51na.org/event/breakfast-speaker-jam-4/2030-07-20/
LOCATION:Keepin It Real\, 1100 Almond Tree Lane\, Las Vegas\, NV\, 89104\, United States
ORGANIZER;CN="Addict's Living In Recovery":MAILTO:fresha11freshera@gmail.com
END:VEVENT
BEGIN:VEVENT
DTSTART;TZID=America/Los_Angeles:20300721T113000
DTEND;TZID=America/Los_Angeles:20300721T143000
DTSTAMP:20260420T171240
CREATED:20221017T043623Z
LAST-MODIFIED:20250603T051649Z
UID:10003329-1910863800-1910874600@region51na.org
SUMMARY:Regional Service Committee (RSC) meeting
DESCRIPTION:RSC meets in person only\, every other month\, on the 3rd Sunday at The Rooms-4800 Alpine Place.
URL:https://region51na.org/event/regional-service-committee-rsc-meeting/2030-07-21/
LOCATION:Foundation for Recovery\, 4800 Alpine Pl\, Las Vegas\, NV\, United States
CATEGORIES:Region 51
END:VEVENT
BEGIN:VEVENT
DTSTART;TZID=America/Los_Angeles:20300727T100000
DTEND;TZID=America/Los_Angeles:20300727T110000
DTSTAMP:20260420T171240
CREATED:20220923T141506Z
LAST-MODIFIED:20260314T000318Z
UID:10003492-1911376800-1911380400@region51na.org
SUMMARY:Monthly Sponsorship Behind the Walls Subcommittee Meeting
DESCRIPTION:When: Last Saturday of the month\nTime: 10:00 a.m.\nZoom Info: ID: 865 1019 5799 Passcode: 496529
URL:https://region51na.org/event/sbtw/2030-07-27/
LOCATION:Zoom
CATEGORIES:Region 51
END:VEVENT
BEGIN:VEVENT
DTSTART;TZID=America/Los_Angeles:20300803T110000
DTEND;TZID=America/Los_Angeles:20300803T130000
DTSTAMP:20260420T171240
CREATED:20230401T230535Z
LAST-MODIFIED:20250609T005100Z
UID:10003242-1911985200-1911992400@region51na.org
SUMMARY:Monthly H & I Subcommittee Meeting *REVISED LOCATION*
DESCRIPTION:Committee meets at 11am. Admin Body meets at 10am. 1st Saturday of each month ONLY in person. \n  \n4800 Alpine Place\n(Willow Room)\nLas Vegas\, NV 89107
URL:https://region51na.org/event/monthly-h-i-subcommittee-meeting-2/2030-08-03/
LOCATION:Foundation for Recovery\, 4800 Alpine Pl\, Las Vegas\, NV\, United States
CATEGORIES:Region 51
END:VEVENT
BEGIN:VEVENT
DTSTART;TZID=America/Los_Angeles:20300803T130000
DTEND;TZID=America/Los_Angeles:20300803T140000
DTSTAMP:20260420T171240
CREATED:20231017T013159Z
LAST-MODIFIED:20231017T013200Z
UID:10003546-1911992400-1911996000@region51na.org
SUMMARY:SN Area Unity and Activities meeting
DESCRIPTION:Monthly meeting
URL:https://region51na.org/event/sn-area-unity-and-activities-meeting-2-2/2030-08-03/
LOCATION:3M Club\, 1401 N Decatur Blvd\, Las Vegas\, NV\, 89108
CATEGORIES:Region 51
END:VEVENT
BEGIN:VEVENT
DTSTART;TZID=America/Los_Angeles:20300803T130000
DTEND;TZID=America/Los_Angeles:20300803T140000
DTSTAMP:20260420T171240
CREATED:20250812T174610Z
LAST-MODIFIED:20250812T174610Z
UID:10003104-1911992400-1911996000@region51na.org
SUMMARY:SN Area Unity and Activities meeting
DESCRIPTION:Monthly meeting
URL:https://region51na.org/event/sn-area-unity-and-activities-meeting-4/2030-08-03/
LOCATION:3M Club\, 1401 N Decatur Blvd\, Las Vegas\, NV\, 89108
CATEGORIES:Region 51
ATTACH;FMTTYPE=image/webp:https://region51na.org/wp-content/uploads/2025/08/Blush-White-Modern-Doodle-Hands-Charity-Donations-Flyer.webp
ORGANIZER;CN="Unities and Activities":MAILTO:dbakley13@gmail.com
END:VEVENT
BEGIN:VEVENT
DTSTART;TZID=America/Phoenix:20300804T140000
DTEND;TZID=America/Phoenix:20300804T170000
DTSTAMP:20260420T171240
CREATED:20220923T135732Z
LAST-MODIFIED:20220923T135732Z
UID:10003392-1912082400-1912093200@region51na.org
SUMMARY:Monthly CAN ASC Meeting
DESCRIPTION:1st Sunday of each month at 2pm AZ \nCAN zoom 879 1866 5974 \npd: 318686. \n1sr Sun of Month 2pm Arizona time
URL:https://region51na.org/event/monthly-can-asc-meeting/2030-08-04/
LOCATION:NV
CATEGORIES:Region 51
END:VEVENT
BEGIN:VEVENT
DTSTART;TZID=America/Los_Angeles:20300807T183000
DTEND;TZID=America/Los_Angeles:20300807T193000
DTSTAMP:20260420T171240
CREATED:20241217T184349Z
LAST-MODIFIED:20241217T184349Z
UID:10003652-1912357800-1912361400@region51na.org
SUMMARY:Addicts Together (1st) & 3rd week Speaker Meetings
DESCRIPTION:
URL:https://region51na.org/event/addicts-together-1st-3rd-week-speaker-meetings/2030-08-07/
LOCATION:Addicts Together\, 900 Liberace Ave. Suite A202 (Music Hall on 2nd Floor down from meeting location)\, Las Vegas\, NV\, 89109\, United States
CATEGORIES:Region 51
ATTACH;FMTTYPE=image/webp:https://region51na.org/wp-content/uploads/2024/12/AT-SpeakerMeetings-1.webp
END:VEVENT
BEGIN:VEVENT
DTSTART;TZID=America/Los_Angeles:20300810T133000
DTEND;TZID=America/Los_Angeles:20300810T160000
DTSTAMP:20260420T171240
CREATED:20220923T140010Z
LAST-MODIFIED:20241106T201609Z
UID:10003408-1912599000-1912608000@region51na.org
SUMMARY:Monthly Southern Utah ASC Meeting
DESCRIPTION:2nd Saturday of the month  2:30 pm – 5 pm MS \nZoom ID Pending
URL:https://region51na.org/event/monthly-southern-utah-asc-meeting/2030-08-10/
LOCATION:NV
CATEGORIES:Region 51
END:VEVENT
BEGIN:VEVENT
DTSTART;TZID=America/Los_Angeles:20300811T130000
DTEND;TZID=America/Los_Angeles:20300811T150000
DTSTAMP:20260420T171240
CREATED:20220923T140204Z
LAST-MODIFIED:20250609T012233Z
UID:10003417-1912683600-1912690800@region51na.org
SUMMARY:Monthly Southern Nevada ASC Meeting *UPDATED LOCATION*
DESCRIPTION:Committee meets at 1PM.  Admin body meets at 12PM. \n  \nSouthern Nevada ASC meets the 2nd Sunday of each month. \n1100 Almond Tree Ln \nLas Vegas\, NV 89104
URL:https://region51na.org/event/monthly-southern-nevada-asc-meeting/2030-08-11/
LOCATION:Keepin It Real\, 1100 Almond Tree Lane\, Las Vegas\, NV\, 89104\, United States
CATEGORIES:Region 51
END:VEVENT
BEGIN:VEVENT
DTSTART;TZID=America/Los_Angeles:20300817T090000
DTEND;TZID=America/Los_Angeles:20300817T110000
DTSTAMP:20260420T171240
CREATED:20240414T203520Z
LAST-MODIFIED:20240414T203520Z
UID:10003629-1913187600-1913194800@region51na.org
SUMMARY:Breakfast Speaker Jam
DESCRIPTION:1 Speaker\nFree Breakfast
URL:https://region51na.org/event/breakfast-speaker-jam-4/2030-08-17/
LOCATION:Keepin It Real\, 1100 Almond Tree Lane\, Las Vegas\, NV\, 89104\, United States
ORGANIZER;CN="Addict's Living In Recovery":MAILTO:fresha11freshera@gmail.com
END:VEVENT
END:VCALENDAR