BEGIN:VCALENDAR
VERSION:2.0
PRODID:-//Region 51 of Narcotics Anonymous - ECPv6.15.17.1//NONSGML v1.0//EN
CALSCALE:GREGORIAN
METHOD:PUBLISH
X-WR-CALNAME:Region 51 of Narcotics Anonymous
X-ORIGINAL-URL:https://region51na.org
X-WR-CALDESC:Events for Region 51 of Narcotics Anonymous
REFRESH-INTERVAL;VALUE=DURATION:PT1H
X-Robots-Tag:noindex
X-PUBLISHED-TTL:PT1H
BEGIN:VTIMEZONE
TZID:America/Los_Angeles
BEGIN:DAYLIGHT
TZOFFSETFROM:-0800
TZOFFSETTO:-0700
TZNAME:PDT
DTSTART:20240310T100000
END:DAYLIGHT
BEGIN:STANDARD
TZOFFSETFROM:-0700
TZOFFSETTO:-0800
TZNAME:PST
DTSTART:20241103T090000
END:STANDARD
BEGIN:DAYLIGHT
TZOFFSETFROM:-0800
TZOFFSETTO:-0700
TZNAME:PDT
DTSTART:20250309T100000
END:DAYLIGHT
BEGIN:STANDARD
TZOFFSETFROM:-0700
TZOFFSETTO:-0800
TZNAME:PST
DTSTART:20251102T090000
END:STANDARD
BEGIN:DAYLIGHT
TZOFFSETFROM:-0800
TZOFFSETTO:-0700
TZNAME:PDT
DTSTART:20260308T100000
END:DAYLIGHT
BEGIN:STANDARD
TZOFFSETFROM:-0700
TZOFFSETTO:-0800
TZNAME:PST
DTSTART:20261101T090000
END:STANDARD
END:VTIMEZONE
BEGIN:VEVENT
DTSTART;TZID=America/Los_Angeles:20250617T183000
DTEND;TZID=America/Los_Angeles:20250617T203000
DTSTAMP:20260421T061159
CREATED:20220923T141135Z
LAST-MODIFIED:20230322T050722Z
UID:10000335-1750185000-1750192200@region51na.org
SUMMARY:Monthly NXNWANA ASC Meeting
DESCRIPTION:3rd Tuesday of Every month at 6:30PM \nTuesday at Mountain View Presbyterian Church at 8601 Del Webb Blvd\, Las Vegas\, NV 89134.
URL:https://region51na.org/event/monthly-nxnwana-asc-meeting/2025-06-17/
LOCATION:Mountain View Presbyterian Church\, 8601 Del Webb Blvd\, Las Veags\, NV\, 89134\, United States
CATEGORIES:Region 51
END:VEVENT
END:VCALENDAR