BEGIN:VCALENDAR
VERSION:2.0
PRODID:-//Region 51 of Narcotics Anonymous - ECPv6.15.17.1//NONSGML v1.0//EN
CALSCALE:GREGORIAN
METHOD:PUBLISH
X-ORIGINAL-URL:https://region51na.org
X-WR-CALDESC:Events for Region 51 of Narcotics Anonymous
REFRESH-INTERVAL;VALUE=DURATION:PT1H
X-Robots-Tag:noindex
X-PUBLISHED-TTL:PT1H
BEGIN:VTIMEZONE
TZID:America/Phoenix
BEGIN:STANDARD
TZOFFSETFROM:-0700
TZOFFSETTO:-0700
TZNAME:MST
DTSTART:20270101T000000
END:STANDARD
END:VTIMEZONE
BEGIN:VTIMEZONE
TZID:America/Los_Angeles
BEGIN:DAYLIGHT
TZOFFSETFROM:-0800
TZOFFSETTO:-0700
TZNAME:PDT
DTSTART:20270314T100000
END:DAYLIGHT
BEGIN:STANDARD
TZOFFSETFROM:-0700
TZOFFSETTO:-0800
TZNAME:PST
DTSTART:20271107T090000
END:STANDARD
BEGIN:DAYLIGHT
TZOFFSETFROM:-0800
TZOFFSETTO:-0700
TZNAME:PDT
DTSTART:20280312T100000
END:DAYLIGHT
BEGIN:STANDARD
TZOFFSETFROM:-0700
TZOFFSETTO:-0800
TZNAME:PST
DTSTART:20281105T090000
END:STANDARD
BEGIN:DAYLIGHT
TZOFFSETFROM:-0800
TZOFFSETTO:-0700
TZNAME:PDT
DTSTART:20290311T100000
END:DAYLIGHT
BEGIN:STANDARD
TZOFFSETFROM:-0700
TZOFFSETTO:-0800
TZNAME:PST
DTSTART:20291104T090000
END:STANDARD
END:VTIMEZONE
BEGIN:VEVENT
DTSTART;TZID=America/Phoenix:20281001T140000
DTEND;TZID=America/Phoenix:20281001T170000
DTSTAMP:20260419T101654
CREATED:20220923T135732Z
LAST-MODIFIED:20220923T135732Z
UID:10003370-1854021600-1854032400@region51na.org
SUMMARY:Monthly CAN ASC Meeting
DESCRIPTION:1st Sunday of each month at 2pm AZ \nCAN zoom 879 1866 5974 \npd: 318686. \n1sr Sun of Month 2pm Arizona time
URL:https://region51na.org/event/monthly-can-asc-meeting/2028-10-01/
LOCATION:NV
CATEGORIES:Region 51
END:VEVENT
BEGIN:VEVENT
DTSTART;TZID=America/Los_Angeles:20281004T183000
DTEND;TZID=America/Los_Angeles:20281004T193000
DTSTAMP:20260419T101654
CREATED:20241217T184349Z
LAST-MODIFIED:20241217T184349Z
UID:10002349-1854297000-1854300600@region51na.org
SUMMARY:Addicts Together (1st) & 3rd week Speaker Meetings
DESCRIPTION:
URL:https://region51na.org/event/addicts-together-1st-3rd-week-speaker-meetings/2028-10-04/
LOCATION:Addicts Together\, 900 Liberace Ave. Suite A202 (Music Hall on 2nd Floor down from meeting location)\, Las Vegas\, NV\, 89109\, United States
CATEGORIES:Region 51
ATTACH;FMTTYPE=image/webp:https://region51na.org/wp-content/uploads/2024/12/AT-SpeakerMeetings-1.webp
END:VEVENT
BEGIN:VEVENT
DTSTART;TZID=America/Los_Angeles:20281007T110000
DTEND;TZID=America/Los_Angeles:20281007T130000
DTSTAMP:20260419T101654
CREATED:20230401T230535Z
LAST-MODIFIED:20250609T005100Z
UID:10002472-1854529200-1854536400@region51na.org
SUMMARY:Monthly H & I Subcommittee Meeting *REVISED LOCATION*
DESCRIPTION:Committee meets at 11am. Admin Body meets at 10am. 1st Saturday of each month ONLY in person. \n  \n4800 Alpine Place\n(Willow Room)\nLas Vegas\, NV 89107
URL:https://region51na.org/event/monthly-h-i-subcommittee-meeting-2/2028-10-07/
LOCATION:Foundation for Recovery\, 4800 Alpine Pl\, Las Vegas\, NV\, United States
CATEGORIES:Region 51
END:VEVENT
BEGIN:VEVENT
DTSTART;TZID=America/Los_Angeles:20281007T130000
DTEND;TZID=America/Los_Angeles:20281007T140000
DTSTAMP:20260419T101654
CREATED:20231017T013159Z
LAST-MODIFIED:20231017T013200Z
UID:10001225-1854536400-1854540000@region51na.org
SUMMARY:SN Area Unity and Activities meeting
DESCRIPTION:Monthly meeting
URL:https://region51na.org/event/sn-area-unity-and-activities-meeting-2-2/2028-10-07/
LOCATION:3M Club\, 1401 N Decatur Blvd\, Las Vegas\, NV\, 89108
CATEGORIES:Region 51
END:VEVENT
BEGIN:VEVENT
DTSTART;TZID=America/Los_Angeles:20281007T130000
DTEND;TZID=America/Los_Angeles:20281007T140000
DTSTAMP:20260419T101654
CREATED:20250812T174610Z
LAST-MODIFIED:20250812T174610Z
UID:10003082-1854536400-1854540000@region51na.org
SUMMARY:SN Area Unity and Activities meeting
DESCRIPTION:Monthly meeting
URL:https://region51na.org/event/sn-area-unity-and-activities-meeting-4/2028-10-07/
LOCATION:3M Club\, 1401 N Decatur Blvd\, Las Vegas\, NV\, 89108
CATEGORIES:Region 51
ATTACH;FMTTYPE=image/webp:https://region51na.org/wp-content/uploads/2025/08/Blush-White-Modern-Doodle-Hands-Charity-Donations-Flyer.webp
ORGANIZER;CN="Unities and Activities":MAILTO:dbakley13@gmail.com
END:VEVENT
BEGIN:VEVENT
DTSTART;TZID=America/Los_Angeles:20281008T130000
DTEND;TZID=America/Los_Angeles:20281008T150000
DTSTAMP:20260419T101654
CREATED:20220923T140204Z
LAST-MODIFIED:20250609T012233Z
UID:10002580-1854622800-1854630000@region51na.org
SUMMARY:Monthly Southern Nevada ASC Meeting *UPDATED LOCATION*
DESCRIPTION:Committee meets at 1PM.  Admin body meets at 12PM. \n  \nSouthern Nevada ASC meets the 2nd Sunday of each month. \n1100 Almond Tree Ln \nLas Vegas\, NV 89104
URL:https://region51na.org/event/monthly-southern-nevada-asc-meeting/2028-10-08/
LOCATION:Keepin It Real\, 1100 Almond Tree Lane\, Las Vegas\, NV\, 89104\, United States
CATEGORIES:Region 51
END:VEVENT
BEGIN:VEVENT
DTSTART;TZID=America/Los_Angeles:20281014T133000
DTEND;TZID=America/Los_Angeles:20281014T160000
DTSTAMP:20260419T101654
CREATED:20220923T140010Z
LAST-MODIFIED:20241106T201609Z
UID:10002207-1855143000-1855152000@region51na.org
SUMMARY:Monthly Southern Utah ASC Meeting
DESCRIPTION:2nd Saturday of the month  2:30 pm – 5 pm MS \nZoom ID Pending
URL:https://region51na.org/event/monthly-southern-utah-asc-meeting/2028-10-14/
LOCATION:NV
CATEGORIES:Region 51
END:VEVENT
BEGIN:VEVENT
DTSTART;TZID=America/Los_Angeles:20281017T180000
DTEND;TZID=America/Los_Angeles:20281017T200000
DTSTAMP:20260419T101654
CREATED:20230921T022855Z
LAST-MODIFIED:20260319T045452Z
UID:10003507-1855418400-1855425600@region51na.org
SUMMARY:Monthly South Valley ASC Meeting
DESCRIPTION:3rd Tuesday of every month 6pm to 8pm \nThis will be an in-person only meeting. Please send your reports by the Monday before the meeting. \nGSR orientations are held 30 minutes prior to ASC at 5:30 PM for any new GSRs and Alternate GSRs. \nPlease send your group reports back to this email secretary.svana@gmail.com \nPlease send your literature orders to svnalit@gmail.com \nPlease send donations to: \nVenmo: Search “NA South Valley Area” \nFor money orders/checks\, please mail to: \nSouth Valley Area of Narcotics Anonymous \nP.O. Box 20726 \nLas Vegas\, NV 89121
URL:https://region51na.org/event/monthly-south-valley-asc-meeting-4/2028-10-17/
LOCATION:Community Lutheran Church\, 3720 E Tropicana Ave.\, Las Vegas\, NV\, 89121
CATEGORIES:Region 51
END:VEVENT
BEGIN:VEVENT
DTSTART;TZID=America/Los_Angeles:20281017T183000
DTEND;TZID=America/Los_Angeles:20281017T203000
DTSTAMP:20260419T101654
CREATED:20220923T141135Z
LAST-MODIFIED:20230322T050722Z
UID:10003430-1855420200-1855427400@region51na.org
SUMMARY:Monthly NXNWANA ASC Meeting
DESCRIPTION:3rd Tuesday of Every month at 6:30PM \nTuesday at Mountain View Presbyterian Church at 8601 Del Webb Blvd\, Las Vegas\, NV 89134.
URL:https://region51na.org/event/monthly-nxnwana-asc-meeting/2028-10-17/
LOCATION:Mountain View Presbyterian Church\, 8601 Del Webb Blvd\, Las Veags\, NV\, 89134\, United States
CATEGORIES:Region 51
END:VEVENT
BEGIN:VEVENT
DTSTART;TZID=America/Los_Angeles:20281018T183000
DTEND;TZID=America/Los_Angeles:20281018T193000
DTSTAMP:20260419T101654
CREATED:20241217T184600Z
LAST-MODIFIED:20241217T184902Z
UID:10002410-1855506600-1855510200@region51na.org
SUMMARY:Addicts Together 1st & (3rd) week Speaker Meetings
DESCRIPTION:Addicts Together 1st & (3rd) week Speaker Meetings
URL:https://region51na.org/event/addicts-together-1st-3rd-week-speaker-meetings-2/2028-10-18/
LOCATION:Addicts Together\, 900 Liberace Ave. Suite A202 (Music Hall on 2nd Floor down from meeting location)\, Las Vegas\, NV\, 89109\, United States
CATEGORIES:Region 51
ATTACH;FMTTYPE=image/webp:https://region51na.org/wp-content/uploads/2024/12/AT-SpeakerMeetings-1.webp
END:VEVENT
BEGIN:VEVENT
DTSTART;TZID=America/Los_Angeles:20281021T090000
DTEND;TZID=America/Los_Angeles:20281021T110000
DTSTAMP:20260419T101654
CREATED:20240414T203520Z
LAST-MODIFIED:20240414T203520Z
UID:10001605-1855731600-1855738800@region51na.org
SUMMARY:Breakfast Speaker Jam
DESCRIPTION:1 Speaker\nFree Breakfast
URL:https://region51na.org/event/breakfast-speaker-jam-4/2028-10-21/
LOCATION:Keepin It Real\, 1100 Almond Tree Lane\, Las Vegas\, NV\, 89104\, United States
ORGANIZER;CN="Addict's Living In Recovery":MAILTO:fresha11freshera@gmail.com
END:VEVENT
BEGIN:VEVENT
DTSTART;TZID=America/Los_Angeles:20281028T100000
DTEND;TZID=America/Los_Angeles:20281028T110000
DTSTAMP:20260419T101654
CREATED:20220923T141506Z
LAST-MODIFIED:20260314T000318Z
UID:10003471-1856340000-1856343600@region51na.org
SUMMARY:Monthly Sponsorship Behind the Walls Subcommittee Meeting
DESCRIPTION:When: Last Saturday of the month\nTime: 10:00 a.m.\nZoom Info: ID: 865 1019 5799 Passcode: 496529
URL:https://region51na.org/event/sbtw/2028-10-28/
LOCATION:Zoom
CATEGORIES:Region 51
END:VEVENT
BEGIN:VEVENT
DTSTART;TZID=America/Los_Angeles:20281101T183000
DTEND;TZID=America/Los_Angeles:20281101T193000
DTSTAMP:20260419T101654
CREATED:20241217T184349Z
LAST-MODIFIED:20241217T184349Z
UID:10002350-1856716200-1856719800@region51na.org
SUMMARY:Addicts Together (1st) & 3rd week Speaker Meetings
DESCRIPTION:
URL:https://region51na.org/event/addicts-together-1st-3rd-week-speaker-meetings/2028-11-01/
LOCATION:Addicts Together\, 900 Liberace Ave. Suite A202 (Music Hall on 2nd Floor down from meeting location)\, Las Vegas\, NV\, 89109\, United States
CATEGORIES:Region 51
ATTACH;FMTTYPE=image/webp:https://region51na.org/wp-content/uploads/2024/12/AT-SpeakerMeetings-1.webp
END:VEVENT
BEGIN:VEVENT
DTSTART;TZID=America/Los_Angeles:20281104T110000
DTEND;TZID=America/Los_Angeles:20281104T130000
DTSTAMP:20260419T101654
CREATED:20230401T230535Z
LAST-MODIFIED:20250609T005100Z
UID:10002473-1856948400-1856955600@region51na.org
SUMMARY:Monthly H & I Subcommittee Meeting *REVISED LOCATION*
DESCRIPTION:Committee meets at 11am. Admin Body meets at 10am. 1st Saturday of each month ONLY in person. \n  \n4800 Alpine Place\n(Willow Room)\nLas Vegas\, NV 89107
URL:https://region51na.org/event/monthly-h-i-subcommittee-meeting-2/2028-11-04/
LOCATION:Foundation for Recovery\, 4800 Alpine Pl\, Las Vegas\, NV\, United States
CATEGORIES:Region 51
END:VEVENT
BEGIN:VEVENT
DTSTART;TZID=America/Los_Angeles:20281104T130000
DTEND;TZID=America/Los_Angeles:20281104T140000
DTSTAMP:20260419T101654
CREATED:20231017T013159Z
LAST-MODIFIED:20231017T013200Z
UID:10001992-1856955600-1856959200@region51na.org
SUMMARY:SN Area Unity and Activities meeting
DESCRIPTION:Monthly meeting
URL:https://region51na.org/event/sn-area-unity-and-activities-meeting-2-2/2028-11-04/
LOCATION:3M Club\, 1401 N Decatur Blvd\, Las Vegas\, NV\, 89108
CATEGORIES:Region 51
END:VEVENT
BEGIN:VEVENT
DTSTART;TZID=America/Los_Angeles:20281104T130000
DTEND;TZID=America/Los_Angeles:20281104T140000
DTSTAMP:20260419T101654
CREATED:20250812T174610Z
LAST-MODIFIED:20250812T174610Z
UID:10003083-1856955600-1856959200@region51na.org
SUMMARY:SN Area Unity and Activities meeting
DESCRIPTION:Monthly meeting
URL:https://region51na.org/event/sn-area-unity-and-activities-meeting-4/2028-11-04/
LOCATION:3M Club\, 1401 N Decatur Blvd\, Las Vegas\, NV\, 89108
CATEGORIES:Region 51
ATTACH;FMTTYPE=image/webp:https://region51na.org/wp-content/uploads/2025/08/Blush-White-Modern-Doodle-Hands-Charity-Donations-Flyer.webp
ORGANIZER;CN="Unities and Activities":MAILTO:dbakley13@gmail.com
END:VEVENT
BEGIN:VEVENT
DTSTART;TZID=America/Phoenix:20281105T140000
DTEND;TZID=America/Phoenix:20281105T170000
DTSTAMP:20260419T101654
CREATED:20220923T135732Z
LAST-MODIFIED:20220923T135732Z
UID:10003371-1857045600-1857056400@region51na.org
SUMMARY:Monthly CAN ASC Meeting
DESCRIPTION:1st Sunday of each month at 2pm AZ \nCAN zoom 879 1866 5974 \npd: 318686. \n1sr Sun of Month 2pm Arizona time
URL:https://region51na.org/event/monthly-can-asc-meeting/2028-11-05/
LOCATION:NV
CATEGORIES:Region 51
END:VEVENT
BEGIN:VEVENT
DTSTART;TZID=America/Los_Angeles:20281111T133000
DTEND;TZID=America/Los_Angeles:20281111T160000
DTSTAMP:20260419T101654
CREATED:20220923T140010Z
LAST-MODIFIED:20241106T201609Z
UID:10002208-1857562200-1857571200@region51na.org
SUMMARY:Monthly Southern Utah ASC Meeting
DESCRIPTION:2nd Saturday of the month  2:30 pm – 5 pm MS \nZoom ID Pending
URL:https://region51na.org/event/monthly-southern-utah-asc-meeting/2028-11-11/
LOCATION:NV
CATEGORIES:Region 51
END:VEVENT
BEGIN:VEVENT
DTSTART;TZID=America/Los_Angeles:20281112T130000
DTEND;TZID=America/Los_Angeles:20281112T150000
DTSTAMP:20260419T101654
CREATED:20220923T140204Z
LAST-MODIFIED:20250609T012233Z
UID:10002581-1857646800-1857654000@region51na.org
SUMMARY:Monthly Southern Nevada ASC Meeting *UPDATED LOCATION*
DESCRIPTION:Committee meets at 1PM.  Admin body meets at 12PM. \n  \nSouthern Nevada ASC meets the 2nd Sunday of each month. \n1100 Almond Tree Ln \nLas Vegas\, NV 89104
URL:https://region51na.org/event/monthly-southern-nevada-asc-meeting/2028-11-12/
LOCATION:Keepin It Real\, 1100 Almond Tree Lane\, Las Vegas\, NV\, 89104\, United States
CATEGORIES:Region 51
END:VEVENT
BEGIN:VEVENT
DTSTART;TZID=America/Los_Angeles:20281115T183000
DTEND;TZID=America/Los_Angeles:20281115T193000
DTSTAMP:20260419T101654
CREATED:20241217T184600Z
LAST-MODIFIED:20241217T184902Z
UID:10002411-1857925800-1857929400@region51na.org
SUMMARY:Addicts Together 1st & (3rd) week Speaker Meetings
DESCRIPTION:Addicts Together 1st & (3rd) week Speaker Meetings
URL:https://region51na.org/event/addicts-together-1st-3rd-week-speaker-meetings-2/2028-11-15/
LOCATION:Addicts Together\, 900 Liberace Ave. Suite A202 (Music Hall on 2nd Floor down from meeting location)\, Las Vegas\, NV\, 89109\, United States
CATEGORIES:Region 51
ATTACH;FMTTYPE=image/webp:https://region51na.org/wp-content/uploads/2024/12/AT-SpeakerMeetings-1.webp
END:VEVENT
BEGIN:VEVENT
DTSTART;TZID=America/Los_Angeles:20281118T090000
DTEND;TZID=America/Los_Angeles:20281118T110000
DTSTAMP:20260419T101654
CREATED:20240414T203520Z
LAST-MODIFIED:20240414T203520Z
UID:10001606-1858150800-1858158000@region51na.org
SUMMARY:Breakfast Speaker Jam
DESCRIPTION:1 Speaker\nFree Breakfast
URL:https://region51na.org/event/breakfast-speaker-jam-4/2028-11-18/
LOCATION:Keepin It Real\, 1100 Almond Tree Lane\, Las Vegas\, NV\, 89104\, United States
ORGANIZER;CN="Addict's Living In Recovery":MAILTO:fresha11freshera@gmail.com
END:VEVENT
BEGIN:VEVENT
DTSTART;TZID=America/Los_Angeles:20281119T113000
DTEND;TZID=America/Los_Angeles:20281119T143000
DTSTAMP:20260419T101654
CREATED:20221017T043623Z
LAST-MODIFIED:20250603T051649Z
UID:10002555-1858246200-1858257000@region51na.org
SUMMARY:Regional Service Committee (RSC) meeting
DESCRIPTION:RSC meets in person only\, every other month\, on the 3rd Sunday at The Rooms-4800 Alpine Place.
URL:https://region51na.org/event/regional-service-committee-rsc-meeting/2028-11-19/
LOCATION:Foundation for Recovery\, 4800 Alpine Pl\, Las Vegas\, NV\, United States
CATEGORIES:Region 51
END:VEVENT
BEGIN:VEVENT
DTSTART;TZID=America/Los_Angeles:20281121T180000
DTEND;TZID=America/Los_Angeles:20281121T200000
DTSTAMP:20260419T101654
CREATED:20230921T022855Z
LAST-MODIFIED:20260319T045452Z
UID:10003508-1858442400-1858449600@region51na.org
SUMMARY:Monthly South Valley ASC Meeting
DESCRIPTION:3rd Tuesday of every month 6pm to 8pm \nThis will be an in-person only meeting. Please send your reports by the Monday before the meeting. \nGSR orientations are held 30 minutes prior to ASC at 5:30 PM for any new GSRs and Alternate GSRs. \nPlease send your group reports back to this email secretary.svana@gmail.com \nPlease send your literature orders to svnalit@gmail.com \nPlease send donations to: \nVenmo: Search “NA South Valley Area” \nFor money orders/checks\, please mail to: \nSouth Valley Area of Narcotics Anonymous \nP.O. Box 20726 \nLas Vegas\, NV 89121
URL:https://region51na.org/event/monthly-south-valley-asc-meeting-4/2028-11-21/
LOCATION:Community Lutheran Church\, 3720 E Tropicana Ave.\, Las Vegas\, NV\, 89121
CATEGORIES:Region 51
END:VEVENT
BEGIN:VEVENT
DTSTART;TZID=America/Los_Angeles:20281121T183000
DTEND;TZID=America/Los_Angeles:20281121T203000
DTSTAMP:20260419T101654
CREATED:20220923T141135Z
LAST-MODIFIED:20230322T050722Z
UID:10003431-1858444200-1858451400@region51na.org
SUMMARY:Monthly NXNWANA ASC Meeting
DESCRIPTION:3rd Tuesday of Every month at 6:30PM \nTuesday at Mountain View Presbyterian Church at 8601 Del Webb Blvd\, Las Vegas\, NV 89134.
URL:https://region51na.org/event/monthly-nxnwana-asc-meeting/2028-11-21/
LOCATION:Mountain View Presbyterian Church\, 8601 Del Webb Blvd\, Las Veags\, NV\, 89134\, United States
CATEGORIES:Region 51
END:VEVENT
BEGIN:VEVENT
DTSTART;TZID=America/Los_Angeles:20281125T100000
DTEND;TZID=America/Los_Angeles:20281125T110000
DTSTAMP:20260419T101654
CREATED:20220923T141506Z
LAST-MODIFIED:20260314T000318Z
UID:10003472-1858759200-1858762800@region51na.org
SUMMARY:Monthly Sponsorship Behind the Walls Subcommittee Meeting
DESCRIPTION:When: Last Saturday of the month\nTime: 10:00 a.m.\nZoom Info: ID: 865 1019 5799 Passcode: 496529
URL:https://region51na.org/event/sbtw/2028-11-25/
LOCATION:Zoom
CATEGORIES:Region 51
END:VEVENT
BEGIN:VEVENT
DTSTART;TZID=America/Los_Angeles:20281202T110000
DTEND;TZID=America/Los_Angeles:20281202T130000
DTSTAMP:20260419T101654
CREATED:20230401T230535Z
LAST-MODIFIED:20250609T005100Z
UID:10002474-1859367600-1859374800@region51na.org
SUMMARY:Monthly H & I Subcommittee Meeting *REVISED LOCATION*
DESCRIPTION:Committee meets at 11am. Admin Body meets at 10am. 1st Saturday of each month ONLY in person. \n  \n4800 Alpine Place\n(Willow Room)\nLas Vegas\, NV 89107
URL:https://region51na.org/event/monthly-h-i-subcommittee-meeting-2/2028-12-02/
LOCATION:Foundation for Recovery\, 4800 Alpine Pl\, Las Vegas\, NV\, United States
CATEGORIES:Region 51
END:VEVENT
BEGIN:VEVENT
DTSTART;TZID=America/Los_Angeles:20281202T130000
DTEND;TZID=America/Los_Angeles:20281202T140000
DTSTAMP:20260419T101654
CREATED:20231017T013159Z
LAST-MODIFIED:20231017T013200Z
UID:10001993-1859374800-1859378400@region51na.org
SUMMARY:SN Area Unity and Activities meeting
DESCRIPTION:Monthly meeting
URL:https://region51na.org/event/sn-area-unity-and-activities-meeting-2-2/2028-12-02/
LOCATION:3M Club\, 1401 N Decatur Blvd\, Las Vegas\, NV\, 89108
CATEGORIES:Region 51
END:VEVENT
BEGIN:VEVENT
DTSTART;TZID=America/Los_Angeles:20281202T130000
DTEND;TZID=America/Los_Angeles:20281202T140000
DTSTAMP:20260419T101654
CREATED:20250812T174610Z
LAST-MODIFIED:20250812T174610Z
UID:10003084-1859374800-1859378400@region51na.org
SUMMARY:SN Area Unity and Activities meeting
DESCRIPTION:Monthly meeting
URL:https://region51na.org/event/sn-area-unity-and-activities-meeting-4/2028-12-02/
LOCATION:3M Club\, 1401 N Decatur Blvd\, Las Vegas\, NV\, 89108
CATEGORIES:Region 51
ATTACH;FMTTYPE=image/webp:https://region51na.org/wp-content/uploads/2025/08/Blush-White-Modern-Doodle-Hands-Charity-Donations-Flyer.webp
ORGANIZER;CN="Unities and Activities":MAILTO:dbakley13@gmail.com
END:VEVENT
BEGIN:VEVENT
DTSTART;TZID=America/Phoenix:20281203T140000
DTEND;TZID=America/Phoenix:20281203T170000
DTSTAMP:20260419T101654
CREATED:20220923T135732Z
LAST-MODIFIED:20220923T135732Z
UID:10003372-1859464800-1859475600@region51na.org
SUMMARY:Monthly CAN ASC Meeting
DESCRIPTION:1st Sunday of each month at 2pm AZ \nCAN zoom 879 1866 5974 \npd: 318686. \n1sr Sun of Month 2pm Arizona time
URL:https://region51na.org/event/monthly-can-asc-meeting/2028-12-03/
LOCATION:NV
CATEGORIES:Region 51
END:VEVENT
BEGIN:VEVENT
DTSTART;TZID=America/Los_Angeles:20281206T183000
DTEND;TZID=America/Los_Angeles:20281206T193000
DTSTAMP:20260419T101654
CREATED:20241217T184349Z
LAST-MODIFIED:20241217T184349Z
UID:10002351-1859740200-1859743800@region51na.org
SUMMARY:Addicts Together (1st) & 3rd week Speaker Meetings
DESCRIPTION:
URL:https://region51na.org/event/addicts-together-1st-3rd-week-speaker-meetings/2028-12-06/
LOCATION:Addicts Together\, 900 Liberace Ave. Suite A202 (Music Hall on 2nd Floor down from meeting location)\, Las Vegas\, NV\, 89109\, United States
CATEGORIES:Region 51
ATTACH;FMTTYPE=image/webp:https://region51na.org/wp-content/uploads/2024/12/AT-SpeakerMeetings-1.webp
END:VEVENT
END:VCALENDAR