BEGIN:VCALENDAR
VERSION:2.0
PRODID:-//Region 51 of Narcotics Anonymous - ECPv6.15.17.1//NONSGML v1.0//EN
CALSCALE:GREGORIAN
METHOD:PUBLISH
X-WR-CALNAME:Region 51 of Narcotics Anonymous
X-ORIGINAL-URL:https://region51na.org
X-WR-CALDESC:Events for Region 51 of Narcotics Anonymous
REFRESH-INTERVAL;VALUE=DURATION:PT1H
X-Robots-Tag:noindex
X-PUBLISHED-TTL:PT1H
BEGIN:VTIMEZONE
TZID:America/Los_Angeles
BEGIN:DAYLIGHT
TZOFFSETFROM:-0800
TZOFFSETTO:-0700
TZNAME:PDT
DTSTART:20290311T100000
END:DAYLIGHT
BEGIN:STANDARD
TZOFFSETFROM:-0700
TZOFFSETTO:-0800
TZNAME:PST
DTSTART:20291104T090000
END:STANDARD
BEGIN:DAYLIGHT
TZOFFSETFROM:-0800
TZOFFSETTO:-0700
TZNAME:PDT
DTSTART:20300310T100000
END:DAYLIGHT
BEGIN:STANDARD
TZOFFSETFROM:-0700
TZOFFSETTO:-0800
TZNAME:PST
DTSTART:20301103T090000
END:STANDARD
BEGIN:DAYLIGHT
TZOFFSETFROM:-0800
TZOFFSETTO:-0700
TZNAME:PDT
DTSTART:20310309T100000
END:DAYLIGHT
BEGIN:STANDARD
TZOFFSETFROM:-0700
TZOFFSETTO:-0800
TZNAME:PST
DTSTART:20311102T090000
END:STANDARD
END:VTIMEZONE
BEGIN:VTIMEZONE
TZID:America/Phoenix
BEGIN:STANDARD
TZOFFSETFROM:-0700
TZOFFSETTO:-0700
TZNAME:MST
DTSTART:20290101T000000
END:STANDARD
END:VTIMEZONE
BEGIN:VEVENT
DTSTART;TZID=America/Los_Angeles:20300309T133000
DTEND;TZID=America/Los_Angeles:20300309T160000
DTSTAMP:20260420T141033
CREATED:20220923T140010Z
LAST-MODIFIED:20241106T201609Z
UID:10003403-1899293400-1899302400@region51na.org
SUMMARY:Monthly Southern Utah ASC Meeting
DESCRIPTION:2nd Saturday of the month  2:30 pm – 5 pm MS \nZoom ID Pending
URL:https://region51na.org/event/monthly-southern-utah-asc-meeting/2030-03-09/
LOCATION:NV
CATEGORIES:Region 51
END:VEVENT
BEGIN:VEVENT
DTSTART;TZID=America/Los_Angeles:20300310T130000
DTEND;TZID=America/Los_Angeles:20300310T150000
DTSTAMP:20260420T141033
CREATED:20220923T140204Z
LAST-MODIFIED:20250609T012233Z
UID:10002597-1899378000-1899385200@region51na.org
SUMMARY:Monthly Southern Nevada ASC Meeting *UPDATED LOCATION*
DESCRIPTION:Committee meets at 1PM.  Admin body meets at 12PM. \n  \nSouthern Nevada ASC meets the 2nd Sunday of each month. \n1100 Almond Tree Ln \nLas Vegas\, NV 89104
URL:https://region51na.org/event/monthly-southern-nevada-asc-meeting/2030-03-10/
LOCATION:Keepin It Real\, 1100 Almond Tree Lane\, Las Vegas\, NV\, 89104\, United States
CATEGORIES:Region 51
END:VEVENT
BEGIN:VEVENT
DTSTART;TZID=America/Los_Angeles:20300316T090000
DTEND;TZID=America/Los_Angeles:20300316T110000
DTSTAMP:20260420T141033
CREATED:20240414T203520Z
LAST-MODIFIED:20240414T203520Z
UID:10003624-1899882000-1899889200@region51na.org
SUMMARY:Breakfast Speaker Jam
DESCRIPTION:1 Speaker\nFree Breakfast
URL:https://region51na.org/event/breakfast-speaker-jam-4/2030-03-16/
LOCATION:Keepin It Real\, 1100 Almond Tree Lane\, Las Vegas\, NV\, 89104\, United States
ORGANIZER;CN="Addict's Living In Recovery":MAILTO:fresha11freshera@gmail.com
END:VEVENT
BEGIN:VEVENT
DTSTART;TZID=America/Los_Angeles:20300317T113000
DTEND;TZID=America/Los_Angeles:20300317T143000
DTSTAMP:20260420T141033
CREATED:20221017T043623Z
LAST-MODIFIED:20250603T051649Z
UID:10002563-1899977400-1899988200@region51na.org
SUMMARY:Regional Service Committee (RSC) meeting
DESCRIPTION:RSC meets in person only\, every other month\, on the 3rd Sunday at The Rooms-4800 Alpine Place.
URL:https://region51na.org/event/regional-service-committee-rsc-meeting/2030-03-17/
LOCATION:Foundation for Recovery\, 4800 Alpine Pl\, Las Vegas\, NV\, United States
CATEGORIES:Region 51
END:VEVENT
BEGIN:VEVENT
DTSTART;TZID=America/Los_Angeles:20300319T180000
DTEND;TZID=America/Los_Angeles:20300319T200000
DTSTAMP:20260420T141033
CREATED:20230921T022855Z
LAST-MODIFIED:20260319T045452Z
UID:10003524-1900173600-1900180800@region51na.org
SUMMARY:Monthly South Valley ASC Meeting
DESCRIPTION:3rd Tuesday of every month 6pm to 8pm \nThis will be an in-person only meeting. Please send your reports by the Monday before the meeting. \nGSR orientations are held 30 minutes prior to ASC at 5:30 PM for any new GSRs and Alternate GSRs. \nPlease send your group reports back to this email secretary.svana@gmail.com \nPlease send your literature orders to svnalit@gmail.com \nPlease send donations to: \nVenmo: Search “NA South Valley Area” \nFor money orders/checks\, please mail to: \nSouth Valley Area of Narcotics Anonymous \nP.O. Box 20726 \nLas Vegas\, NV 89121
URL:https://region51na.org/event/monthly-south-valley-asc-meeting-4/2030-03-19/
LOCATION:Community Lutheran Church\, 3720 E Tropicana Ave.\, Las Vegas\, NV\, 89121
CATEGORIES:Region 51
END:VEVENT
BEGIN:VEVENT
DTSTART;TZID=America/Los_Angeles:20300319T183000
DTEND;TZID=America/Los_Angeles:20300319T203000
DTSTAMP:20260420T141033
CREATED:20220923T141135Z
LAST-MODIFIED:20230322T050722Z
UID:10003447-1900175400-1900182600@region51na.org
SUMMARY:Monthly NXNWANA ASC Meeting
DESCRIPTION:3rd Tuesday of Every month at 6:30PM \nTuesday at Mountain View Presbyterian Church at 8601 Del Webb Blvd\, Las Vegas\, NV 89134.
URL:https://region51na.org/event/monthly-nxnwana-asc-meeting/2030-03-19/
LOCATION:Mountain View Presbyterian Church\, 8601 Del Webb Blvd\, Las Veags\, NV\, 89134\, United States
CATEGORIES:Region 51
END:VEVENT
BEGIN:VEVENT
DTSTART;TZID=America/Los_Angeles:20300320T183000
DTEND;TZID=America/Los_Angeles:20300320T193000
DTSTAMP:20260420T141033
CREATED:20241217T184600Z
LAST-MODIFIED:20241217T184902Z
UID:10003663-1900261800-1900265400@region51na.org
SUMMARY:Addicts Together 1st & (3rd) week Speaker Meetings
DESCRIPTION:Addicts Together 1st & (3rd) week Speaker Meetings
URL:https://region51na.org/event/addicts-together-1st-3rd-week-speaker-meetings-2/2030-03-20/
LOCATION:Addicts Together\, 900 Liberace Ave. Suite A202 (Music Hall on 2nd Floor down from meeting location)\, Las Vegas\, NV\, 89109\, United States
CATEGORIES:Region 51
ATTACH;FMTTYPE=image/webp:https://region51na.org/wp-content/uploads/2024/12/AT-SpeakerMeetings-1.webp
END:VEVENT
BEGIN:VEVENT
DTSTART;TZID=America/Los_Angeles:20300330T100000
DTEND;TZID=America/Los_Angeles:20300330T110000
DTSTAMP:20260420T141033
CREATED:20220923T141506Z
LAST-MODIFIED:20260314T000318Z
UID:10003488-1901095200-1901098800@region51na.org
SUMMARY:Monthly Sponsorship Behind the Walls Subcommittee Meeting
DESCRIPTION:When: Last Saturday of the month\nTime: 10:00 a.m.\nZoom Info: ID: 865 1019 5799 Passcode: 496529
URL:https://region51na.org/event/sbtw/2030-03-30/
LOCATION:Zoom
CATEGORIES:Region 51
END:VEVENT
BEGIN:VEVENT
DTSTART;TZID=America/Los_Angeles:20300403T183000
DTEND;TZID=America/Los_Angeles:20300403T193000
DTSTAMP:20260420T141033
CREATED:20241217T184349Z
LAST-MODIFIED:20241217T184349Z
UID:10003648-1901471400-1901475000@region51na.org
SUMMARY:Addicts Together (1st) & 3rd week Speaker Meetings
DESCRIPTION:
URL:https://region51na.org/event/addicts-together-1st-3rd-week-speaker-meetings/2030-04-03/
LOCATION:Addicts Together\, 900 Liberace Ave. Suite A202 (Music Hall on 2nd Floor down from meeting location)\, Las Vegas\, NV\, 89109\, United States
CATEGORIES:Region 51
ATTACH;FMTTYPE=image/webp:https://region51na.org/wp-content/uploads/2024/12/AT-SpeakerMeetings-1.webp
END:VEVENT
BEGIN:VEVENT
DTSTART;TZID=America/Los_Angeles:20300406T110000
DTEND;TZID=America/Los_Angeles:20300406T130000
DTSTAMP:20260420T141033
CREATED:20230401T230535Z
LAST-MODIFIED:20250609T005100Z
UID:10002566-1901703600-1901710800@region51na.org
SUMMARY:Monthly H & I Subcommittee Meeting *REVISED LOCATION*
DESCRIPTION:Committee meets at 11am. Admin Body meets at 10am. 1st Saturday of each month ONLY in person. \n  \n4800 Alpine Place\n(Willow Room)\nLas Vegas\, NV 89107
URL:https://region51na.org/event/monthly-h-i-subcommittee-meeting-2/2030-04-06/
LOCATION:Foundation for Recovery\, 4800 Alpine Pl\, Las Vegas\, NV\, United States
CATEGORIES:Region 51
END:VEVENT
BEGIN:VEVENT
DTSTART;TZID=America/Los_Angeles:20300406T130000
DTEND;TZID=America/Los_Angeles:20300406T140000
DTSTAMP:20260420T141033
CREATED:20231017T013159Z
LAST-MODIFIED:20231017T013200Z
UID:10003542-1901710800-1901714400@region51na.org
SUMMARY:SN Area Unity and Activities meeting
DESCRIPTION:Monthly meeting
URL:https://region51na.org/event/sn-area-unity-and-activities-meeting-2-2/2030-04-06/
LOCATION:3M Club\, 1401 N Decatur Blvd\, Las Vegas\, NV\, 89108
CATEGORIES:Region 51
END:VEVENT
BEGIN:VEVENT
DTSTART;TZID=America/Los_Angeles:20300406T130000
DTEND;TZID=America/Los_Angeles:20300406T140000
DTSTAMP:20260420T141033
CREATED:20250812T174610Z
LAST-MODIFIED:20250812T174610Z
UID:10003100-1901710800-1901714400@region51na.org
SUMMARY:SN Area Unity and Activities meeting
DESCRIPTION:Monthly meeting
URL:https://region51na.org/event/sn-area-unity-and-activities-meeting-4/2030-04-06/
LOCATION:3M Club\, 1401 N Decatur Blvd\, Las Vegas\, NV\, 89108
CATEGORIES:Region 51
ATTACH;FMTTYPE=image/webp:https://region51na.org/wp-content/uploads/2025/08/Blush-White-Modern-Doodle-Hands-Charity-Donations-Flyer.webp
ORGANIZER;CN="Unities and Activities":MAILTO:dbakley13@gmail.com
END:VEVENT
BEGIN:VEVENT
DTSTART;TZID=America/Phoenix:20300407T140000
DTEND;TZID=America/Phoenix:20300407T170000
DTSTAMP:20260420T141033
CREATED:20220923T135732Z
LAST-MODIFIED:20220923T135732Z
UID:10003388-1901800800-1901811600@region51na.org
SUMMARY:Monthly CAN ASC Meeting
DESCRIPTION:1st Sunday of each month at 2pm AZ \nCAN zoom 879 1866 5974 \npd: 318686. \n1sr Sun of Month 2pm Arizona time
URL:https://region51na.org/event/monthly-can-asc-meeting/2030-04-07/
LOCATION:NV
CATEGORIES:Region 51
END:VEVENT
BEGIN:VEVENT
DTSTART;TZID=America/Los_Angeles:20300413T133000
DTEND;TZID=America/Los_Angeles:20300413T160000
DTSTAMP:20260420T141033
CREATED:20220923T140010Z
LAST-MODIFIED:20241106T201609Z
UID:10003404-1902317400-1902326400@region51na.org
SUMMARY:Monthly Southern Utah ASC Meeting
DESCRIPTION:2nd Saturday of the month  2:30 pm – 5 pm MS \nZoom ID Pending
URL:https://region51na.org/event/monthly-southern-utah-asc-meeting/2030-04-13/
LOCATION:NV
CATEGORIES:Region 51
END:VEVENT
BEGIN:VEVENT
DTSTART;TZID=America/Los_Angeles:20300414T130000
DTEND;TZID=America/Los_Angeles:20300414T150000
DTSTAMP:20260420T141033
CREATED:20220923T140204Z
LAST-MODIFIED:20250609T012233Z
UID:10002598-1902402000-1902409200@region51na.org
SUMMARY:Monthly Southern Nevada ASC Meeting *UPDATED LOCATION*
DESCRIPTION:Committee meets at 1PM.  Admin body meets at 12PM. \n  \nSouthern Nevada ASC meets the 2nd Sunday of each month. \n1100 Almond Tree Ln \nLas Vegas\, NV 89104
URL:https://region51na.org/event/monthly-southern-nevada-asc-meeting/2030-04-14/
LOCATION:Keepin It Real\, 1100 Almond Tree Lane\, Las Vegas\, NV\, 89104\, United States
CATEGORIES:Region 51
END:VEVENT
BEGIN:VEVENT
DTSTART;TZID=America/Los_Angeles:20300416T180000
DTEND;TZID=America/Los_Angeles:20300416T200000
DTSTAMP:20260420T141033
CREATED:20230921T022855Z
LAST-MODIFIED:20260319T045452Z
UID:10003525-1902592800-1902600000@region51na.org
SUMMARY:Monthly South Valley ASC Meeting
DESCRIPTION:3rd Tuesday of every month 6pm to 8pm \nThis will be an in-person only meeting. Please send your reports by the Monday before the meeting. \nGSR orientations are held 30 minutes prior to ASC at 5:30 PM for any new GSRs and Alternate GSRs. \nPlease send your group reports back to this email secretary.svana@gmail.com \nPlease send your literature orders to svnalit@gmail.com \nPlease send donations to: \nVenmo: Search “NA South Valley Area” \nFor money orders/checks\, please mail to: \nSouth Valley Area of Narcotics Anonymous \nP.O. Box 20726 \nLas Vegas\, NV 89121
URL:https://region51na.org/event/monthly-south-valley-asc-meeting-4/2030-04-16/
LOCATION:Community Lutheran Church\, 3720 E Tropicana Ave.\, Las Vegas\, NV\, 89121
CATEGORIES:Region 51
END:VEVENT
BEGIN:VEVENT
DTSTART;TZID=America/Los_Angeles:20300416T183000
DTEND;TZID=America/Los_Angeles:20300416T203000
DTSTAMP:20260420T141033
CREATED:20220923T141135Z
LAST-MODIFIED:20230322T050722Z
UID:10003448-1902594600-1902601800@region51na.org
SUMMARY:Monthly NXNWANA ASC Meeting
DESCRIPTION:3rd Tuesday of Every month at 6:30PM \nTuesday at Mountain View Presbyterian Church at 8601 Del Webb Blvd\, Las Vegas\, NV 89134.
URL:https://region51na.org/event/monthly-nxnwana-asc-meeting/2030-04-16/
LOCATION:Mountain View Presbyterian Church\, 8601 Del Webb Blvd\, Las Veags\, NV\, 89134\, United States
CATEGORIES:Region 51
END:VEVENT
BEGIN:VEVENT
DTSTART;TZID=America/Los_Angeles:20300417T183000
DTEND;TZID=America/Los_Angeles:20300417T193000
DTSTAMP:20260420T141033
CREATED:20241217T184600Z
LAST-MODIFIED:20241217T184902Z
UID:10003664-1902681000-1902684600@region51na.org
SUMMARY:Addicts Together 1st & (3rd) week Speaker Meetings
DESCRIPTION:Addicts Together 1st & (3rd) week Speaker Meetings
URL:https://region51na.org/event/addicts-together-1st-3rd-week-speaker-meetings-2/2030-04-17/
LOCATION:Addicts Together\, 900 Liberace Ave. Suite A202 (Music Hall on 2nd Floor down from meeting location)\, Las Vegas\, NV\, 89109\, United States
CATEGORIES:Region 51
ATTACH;FMTTYPE=image/webp:https://region51na.org/wp-content/uploads/2024/12/AT-SpeakerMeetings-1.webp
END:VEVENT
BEGIN:VEVENT
DTSTART;TZID=America/Los_Angeles:20300420T090000
DTEND;TZID=America/Los_Angeles:20300420T110000
DTSTAMP:20260420T141033
CREATED:20240414T203520Z
LAST-MODIFIED:20240414T203520Z
UID:10003625-1902906000-1902913200@region51na.org
SUMMARY:Breakfast Speaker Jam
DESCRIPTION:1 Speaker\nFree Breakfast
URL:https://region51na.org/event/breakfast-speaker-jam-4/2030-04-20/
LOCATION:Keepin It Real\, 1100 Almond Tree Lane\, Las Vegas\, NV\, 89104\, United States
ORGANIZER;CN="Addict's Living In Recovery":MAILTO:fresha11freshera@gmail.com
END:VEVENT
BEGIN:VEVENT
DTSTART;TZID=America/Los_Angeles:20300427T100000
DTEND;TZID=America/Los_Angeles:20300427T110000
DTSTAMP:20260420T141033
CREATED:20220923T141506Z
LAST-MODIFIED:20260314T000318Z
UID:10003489-1903514400-1903518000@region51na.org
SUMMARY:Monthly Sponsorship Behind the Walls Subcommittee Meeting
DESCRIPTION:When: Last Saturday of the month\nTime: 10:00 a.m.\nZoom Info: ID: 865 1019 5799 Passcode: 496529
URL:https://region51na.org/event/sbtw/2030-04-27/
LOCATION:Zoom
CATEGORIES:Region 51
END:VEVENT
BEGIN:VEVENT
DTSTART;TZID=America/Los_Angeles:20300501T183000
DTEND;TZID=America/Los_Angeles:20300501T193000
DTSTAMP:20260420T141033
CREATED:20241217T184349Z
LAST-MODIFIED:20241217T184349Z
UID:10003649-1903890600-1903894200@region51na.org
SUMMARY:Addicts Together (1st) & 3rd week Speaker Meetings
DESCRIPTION:
URL:https://region51na.org/event/addicts-together-1st-3rd-week-speaker-meetings/2030-05-01/
LOCATION:Addicts Together\, 900 Liberace Ave. Suite A202 (Music Hall on 2nd Floor down from meeting location)\, Las Vegas\, NV\, 89109\, United States
CATEGORIES:Region 51
ATTACH;FMTTYPE=image/webp:https://region51na.org/wp-content/uploads/2024/12/AT-SpeakerMeetings-1.webp
END:VEVENT
BEGIN:VEVENT
DTSTART;TZID=America/Los_Angeles:20300504T110000
DTEND;TZID=America/Los_Angeles:20300504T130000
DTSTAMP:20260420T141033
CREATED:20230401T230535Z
LAST-MODIFIED:20250609T005100Z
UID:10002567-1904122800-1904130000@region51na.org
SUMMARY:Monthly H & I Subcommittee Meeting *REVISED LOCATION*
DESCRIPTION:Committee meets at 11am. Admin Body meets at 10am. 1st Saturday of each month ONLY in person. \n  \n4800 Alpine Place\n(Willow Room)\nLas Vegas\, NV 89107
URL:https://region51na.org/event/monthly-h-i-subcommittee-meeting-2/2030-05-04/
LOCATION:Foundation for Recovery\, 4800 Alpine Pl\, Las Vegas\, NV\, United States
CATEGORIES:Region 51
END:VEVENT
BEGIN:VEVENT
DTSTART;TZID=America/Los_Angeles:20300504T130000
DTEND;TZID=America/Los_Angeles:20300504T140000
DTSTAMP:20260420T141033
CREATED:20231017T013159Z
LAST-MODIFIED:20231017T013200Z
UID:10003543-1904130000-1904133600@region51na.org
SUMMARY:SN Area Unity and Activities meeting
DESCRIPTION:Monthly meeting
URL:https://region51na.org/event/sn-area-unity-and-activities-meeting-2-2/2030-05-04/
LOCATION:3M Club\, 1401 N Decatur Blvd\, Las Vegas\, NV\, 89108
CATEGORIES:Region 51
END:VEVENT
BEGIN:VEVENT
DTSTART;TZID=America/Los_Angeles:20300504T130000
DTEND;TZID=America/Los_Angeles:20300504T140000
DTSTAMP:20260420T141033
CREATED:20250812T174610Z
LAST-MODIFIED:20250812T174610Z
UID:10003101-1904130000-1904133600@region51na.org
SUMMARY:SN Area Unity and Activities meeting
DESCRIPTION:Monthly meeting
URL:https://region51na.org/event/sn-area-unity-and-activities-meeting-4/2030-05-04/
LOCATION:3M Club\, 1401 N Decatur Blvd\, Las Vegas\, NV\, 89108
CATEGORIES:Region 51
ATTACH;FMTTYPE=image/webp:https://region51na.org/wp-content/uploads/2025/08/Blush-White-Modern-Doodle-Hands-Charity-Donations-Flyer.webp
ORGANIZER;CN="Unities and Activities":MAILTO:dbakley13@gmail.com
END:VEVENT
BEGIN:VEVENT
DTSTART;TZID=America/Phoenix:20300505T140000
DTEND;TZID=America/Phoenix:20300505T170000
DTSTAMP:20260420T141033
CREATED:20220923T135732Z
LAST-MODIFIED:20220923T135732Z
UID:10003389-1904220000-1904230800@region51na.org
SUMMARY:Monthly CAN ASC Meeting
DESCRIPTION:1st Sunday of each month at 2pm AZ \nCAN zoom 879 1866 5974 \npd: 318686. \n1sr Sun of Month 2pm Arizona time
URL:https://region51na.org/event/monthly-can-asc-meeting/2030-05-05/
LOCATION:NV
CATEGORIES:Region 51
END:VEVENT
BEGIN:VEVENT
DTSTART;TZID=America/Los_Angeles:20300511T133000
DTEND;TZID=America/Los_Angeles:20300511T160000
DTSTAMP:20260420T141033
CREATED:20220923T140010Z
LAST-MODIFIED:20241106T201609Z
UID:10003405-1904736600-1904745600@region51na.org
SUMMARY:Monthly Southern Utah ASC Meeting
DESCRIPTION:2nd Saturday of the month  2:30 pm – 5 pm MS \nZoom ID Pending
URL:https://region51na.org/event/monthly-southern-utah-asc-meeting/2030-05-11/
LOCATION:NV
CATEGORIES:Region 51
END:VEVENT
BEGIN:VEVENT
DTSTART;TZID=America/Los_Angeles:20300512T130000
DTEND;TZID=America/Los_Angeles:20300512T150000
DTSTAMP:20260420T141033
CREATED:20220923T140204Z
LAST-MODIFIED:20250609T012233Z
UID:10002599-1904821200-1904828400@region51na.org
SUMMARY:Monthly Southern Nevada ASC Meeting *UPDATED LOCATION*
DESCRIPTION:Committee meets at 1PM.  Admin body meets at 12PM. \n  \nSouthern Nevada ASC meets the 2nd Sunday of each month. \n1100 Almond Tree Ln \nLas Vegas\, NV 89104
URL:https://region51na.org/event/monthly-southern-nevada-asc-meeting/2030-05-12/
LOCATION:Keepin It Real\, 1100 Almond Tree Lane\, Las Vegas\, NV\, 89104\, United States
CATEGORIES:Region 51
END:VEVENT
BEGIN:VEVENT
DTSTART;TZID=America/Los_Angeles:20300515T183000
DTEND;TZID=America/Los_Angeles:20300515T193000
DTSTAMP:20260420T141033
CREATED:20241217T184600Z
LAST-MODIFIED:20241217T184902Z
UID:10003665-1905100200-1905103800@region51na.org
SUMMARY:Addicts Together 1st & (3rd) week Speaker Meetings
DESCRIPTION:Addicts Together 1st & (3rd) week Speaker Meetings
URL:https://region51na.org/event/addicts-together-1st-3rd-week-speaker-meetings-2/2030-05-15/
LOCATION:Addicts Together\, 900 Liberace Ave. Suite A202 (Music Hall on 2nd Floor down from meeting location)\, Las Vegas\, NV\, 89109\, United States
CATEGORIES:Region 51
ATTACH;FMTTYPE=image/webp:https://region51na.org/wp-content/uploads/2024/12/AT-SpeakerMeetings-1.webp
END:VEVENT
BEGIN:VEVENT
DTSTART;TZID=America/Los_Angeles:20300518T090000
DTEND;TZID=America/Los_Angeles:20300518T110000
DTSTAMP:20260420T141033
CREATED:20240414T203520Z
LAST-MODIFIED:20240414T203520Z
UID:10003626-1905325200-1905332400@region51na.org
SUMMARY:Breakfast Speaker Jam
DESCRIPTION:1 Speaker\nFree Breakfast
URL:https://region51na.org/event/breakfast-speaker-jam-4/2030-05-18/
LOCATION:Keepin It Real\, 1100 Almond Tree Lane\, Las Vegas\, NV\, 89104\, United States
ORGANIZER;CN="Addict's Living In Recovery":MAILTO:fresha11freshera@gmail.com
END:VEVENT
BEGIN:VEVENT
DTSTART;TZID=America/Los_Angeles:20300519T113000
DTEND;TZID=America/Los_Angeles:20300519T143000
DTSTAMP:20260420T141033
CREATED:20221017T043623Z
LAST-MODIFIED:20250603T051649Z
UID:10002564-1905420600-1905431400@region51na.org
SUMMARY:Regional Service Committee (RSC) meeting
DESCRIPTION:RSC meets in person only\, every other month\, on the 3rd Sunday at The Rooms-4800 Alpine Place.
URL:https://region51na.org/event/regional-service-committee-rsc-meeting/2030-05-19/
LOCATION:Foundation for Recovery\, 4800 Alpine Pl\, Las Vegas\, NV\, United States
CATEGORIES:Region 51
END:VEVENT
END:VCALENDAR