BEGIN:VCALENDAR
VERSION:2.0
PRODID:-//Region 51 of Narcotics Anonymous - ECPv6.15.20//NONSGML v1.0//EN
CALSCALE:GREGORIAN
METHOD:PUBLISH
X-WR-CALNAME:Region 51 of Narcotics Anonymous
X-ORIGINAL-URL:https://region51na.org
X-WR-CALDESC:Events for Region 51 of Narcotics Anonymous
REFRESH-INTERVAL;VALUE=DURATION:PT1H
X-Robots-Tag:noindex
X-PUBLISHED-TTL:PT1H
BEGIN:VTIMEZONE
TZID:America/Los_Angeles
BEGIN:DAYLIGHT
TZOFFSETFROM:-0800
TZOFFSETTO:-0700
TZNAME:PDT
DTSTART:20250309T100000
END:DAYLIGHT
BEGIN:STANDARD
TZOFFSETFROM:-0700
TZOFFSETTO:-0800
TZNAME:PST
DTSTART:20251102T090000
END:STANDARD
BEGIN:DAYLIGHT
TZOFFSETFROM:-0800
TZOFFSETTO:-0700
TZNAME:PDT
DTSTART:20260308T100000
END:DAYLIGHT
BEGIN:STANDARD
TZOFFSETFROM:-0700
TZOFFSETTO:-0800
TZNAME:PST
DTSTART:20261101T090000
END:STANDARD
BEGIN:DAYLIGHT
TZOFFSETFROM:-0800
TZOFFSETTO:-0700
TZNAME:PDT
DTSTART:20270314T100000
END:DAYLIGHT
BEGIN:STANDARD
TZOFFSETFROM:-0700
TZOFFSETTO:-0800
TZNAME:PST
DTSTART:20271107T090000
END:STANDARD
BEGIN:DAYLIGHT
TZOFFSETFROM:-0800
TZOFFSETTO:-0700
TZNAME:PDT
DTSTART:20280312T100000
END:DAYLIGHT
BEGIN:STANDARD
TZOFFSETFROM:-0700
TZOFFSETTO:-0800
TZNAME:PST
DTSTART:20281105T090000
END:STANDARD
END:VTIMEZONE
BEGIN:VEVENT
DTSTART;TZID=America/Los_Angeles:20260502T150000
DTEND;TZID=America/Los_Angeles:20260502T170000
DTSTAMP:20260424T021839
CREATED:20260308T214454Z
LAST-MODIFIED:20260308T224523Z
UID:10003576-1777734000-1777741200@region51na.org
SUMMARY:Circle of Sisters Host Committee
DESCRIPTION:Calling all women of Region 51 to come out and join us the 1st Saturday of month. \n  \nZoom ID: 908 810 3769 \nPasscode: Love
URL:https://region51na.org/event/cos-host/2026-05-02/
LOCATION:3M Club\, 1401 N Decatur Blvd\, Las Vegas\, NV\, 89108
END:VEVENT
BEGIN:VEVENT
DTSTART;TZID=America/Los_Angeles:20260606T150000
DTEND;TZID=America/Los_Angeles:20260606T170000
DTSTAMP:20260424T021839
CREATED:20260308T214454Z
LAST-MODIFIED:20260308T224523Z
UID:10003577-1780758000-1780765200@region51na.org
SUMMARY:Circle of Sisters Host Committee
DESCRIPTION:Calling all women of Region 51 to come out and join us the 1st Saturday of month. \n  \nZoom ID: 908 810 3769 \nPasscode: Love
URL:https://region51na.org/event/cos-host/2026-06-06/
LOCATION:3M Club\, 1401 N Decatur Blvd\, Las Vegas\, NV\, 89108
END:VEVENT
BEGIN:VEVENT
DTSTART;TZID=America/Los_Angeles:20260704T150000
DTEND;TZID=America/Los_Angeles:20260704T170000
DTSTAMP:20260424T021839
CREATED:20260308T214454Z
LAST-MODIFIED:20260308T224523Z
UID:10003578-1783177200-1783184400@region51na.org
SUMMARY:Circle of Sisters Host Committee
DESCRIPTION:Calling all women of Region 51 to come out and join us the 1st Saturday of month. \n  \nZoom ID: 908 810 3769 \nPasscode: Love
URL:https://region51na.org/event/cos-host/2026-07-04/
LOCATION:3M Club\, 1401 N Decatur Blvd\, Las Vegas\, NV\, 89108
END:VEVENT
BEGIN:VEVENT
DTSTART;TZID=America/Los_Angeles:20260801T150000
DTEND;TZID=America/Los_Angeles:20260801T170000
DTSTAMP:20260424T021839
CREATED:20260308T214454Z
LAST-MODIFIED:20260308T224523Z
UID:10003579-1785596400-1785603600@region51na.org
SUMMARY:Circle of Sisters Host Committee
DESCRIPTION:Calling all women of Region 51 to come out and join us the 1st Saturday of month. \n  \nZoom ID: 908 810 3769 \nPasscode: Love
URL:https://region51na.org/event/cos-host/2026-08-01/
LOCATION:3M Club\, 1401 N Decatur Blvd\, Las Vegas\, NV\, 89108
END:VEVENT
BEGIN:VEVENT
DTSTART;TZID=America/Los_Angeles:20260905T150000
DTEND;TZID=America/Los_Angeles:20260905T170000
DTSTAMP:20260424T021839
CREATED:20260308T214454Z
LAST-MODIFIED:20260308T224523Z
UID:10003580-1788620400-1788627600@region51na.org
SUMMARY:Circle of Sisters Host Committee
DESCRIPTION:Calling all women of Region 51 to come out and join us the 1st Saturday of month. \n  \nZoom ID: 908 810 3769 \nPasscode: Love
URL:https://region51na.org/event/cos-host/2026-09-05/
LOCATION:3M Club\, 1401 N Decatur Blvd\, Las Vegas\, NV\, 89108
END:VEVENT
BEGIN:VEVENT
DTSTART;TZID=America/Los_Angeles:20261003T150000
DTEND;TZID=America/Los_Angeles:20261003T170000
DTSTAMP:20260424T021839
CREATED:20260308T214454Z
LAST-MODIFIED:20260308T224523Z
UID:10003581-1791039600-1791046800@region51na.org
SUMMARY:Circle of Sisters Host Committee
DESCRIPTION:Calling all women of Region 51 to come out and join us the 1st Saturday of month. \n  \nZoom ID: 908 810 3769 \nPasscode: Love
URL:https://region51na.org/event/cos-host/2026-10-03/
LOCATION:3M Club\, 1401 N Decatur Blvd\, Las Vegas\, NV\, 89108
END:VEVENT
BEGIN:VEVENT
DTSTART;TZID=America/Los_Angeles:20261107T150000
DTEND;TZID=America/Los_Angeles:20261107T170000
DTSTAMP:20260424T021839
CREATED:20260308T214454Z
LAST-MODIFIED:20260308T224523Z
UID:10003582-1794063600-1794070800@region51na.org
SUMMARY:Circle of Sisters Host Committee
DESCRIPTION:Calling all women of Region 51 to come out and join us the 1st Saturday of month. \n  \nZoom ID: 908 810 3769 \nPasscode: Love
URL:https://region51na.org/event/cos-host/2026-11-07/
LOCATION:3M Club\, 1401 N Decatur Blvd\, Las Vegas\, NV\, 89108
END:VEVENT
BEGIN:VEVENT
DTSTART;TZID=America/Los_Angeles:20261205T150000
DTEND;TZID=America/Los_Angeles:20261205T170000
DTSTAMP:20260424T021839
CREATED:20260308T214454Z
LAST-MODIFIED:20260308T224523Z
UID:10003583-1796482800-1796490000@region51na.org
SUMMARY:Circle of Sisters Host Committee
DESCRIPTION:Calling all women of Region 51 to come out and join us the 1st Saturday of month. \n  \nZoom ID: 908 810 3769 \nPasscode: Love
URL:https://region51na.org/event/cos-host/2026-12-05/
LOCATION:3M Club\, 1401 N Decatur Blvd\, Las Vegas\, NV\, 89108
END:VEVENT
BEGIN:VEVENT
DTSTART;TZID=America/Los_Angeles:20270102T150000
DTEND;TZID=America/Los_Angeles:20270102T170000
DTSTAMP:20260424T021839
CREATED:20260308T214454Z
LAST-MODIFIED:20260308T224523Z
UID:10003584-1798902000-1798909200@region51na.org
SUMMARY:Circle of Sisters Host Committee
DESCRIPTION:Calling all women of Region 51 to come out and join us the 1st Saturday of month. \n  \nZoom ID: 908 810 3769 \nPasscode: Love
URL:https://region51na.org/event/cos-host/2027-01-02/
LOCATION:3M Club\, 1401 N Decatur Blvd\, Las Vegas\, NV\, 89108
END:VEVENT
BEGIN:VEVENT
DTSTART;TZID=America/Los_Angeles:20270206T150000
DTEND;TZID=America/Los_Angeles:20270206T170000
DTSTAMP:20260424T021839
CREATED:20260308T214454Z
LAST-MODIFIED:20260308T224523Z
UID:10003585-1801926000-1801933200@region51na.org
SUMMARY:Circle of Sisters Host Committee
DESCRIPTION:Calling all women of Region 51 to come out and join us the 1st Saturday of month. \n  \nZoom ID: 908 810 3769 \nPasscode: Love
URL:https://region51na.org/event/cos-host/2027-02-06/
LOCATION:3M Club\, 1401 N Decatur Blvd\, Las Vegas\, NV\, 89108
END:VEVENT
BEGIN:VEVENT
DTSTART;TZID=America/Los_Angeles:20270306T150000
DTEND;TZID=America/Los_Angeles:20270306T170000
DTSTAMP:20260424T021839
CREATED:20260308T214454Z
LAST-MODIFIED:20260308T224523Z
UID:10003586-1804345200-1804352400@region51na.org
SUMMARY:Circle of Sisters Host Committee
DESCRIPTION:Calling all women of Region 51 to come out and join us the 1st Saturday of month. \n  \nZoom ID: 908 810 3769 \nPasscode: Love
URL:https://region51na.org/event/cos-host/2027-03-06/
LOCATION:3M Club\, 1401 N Decatur Blvd\, Las Vegas\, NV\, 89108
END:VEVENT
BEGIN:VEVENT
DTSTART;TZID=America/Los_Angeles:20270403T150000
DTEND;TZID=America/Los_Angeles:20270403T170000
DTSTAMP:20260424T021839
CREATED:20260308T214454Z
LAST-MODIFIED:20260308T224523Z
UID:10003587-1806764400-1806771600@region51na.org
SUMMARY:Circle of Sisters Host Committee
DESCRIPTION:Calling all women of Region 51 to come out and join us the 1st Saturday of month. \n  \nZoom ID: 908 810 3769 \nPasscode: Love
URL:https://region51na.org/event/cos-host/2027-04-03/
LOCATION:3M Club\, 1401 N Decatur Blvd\, Las Vegas\, NV\, 89108
END:VEVENT
END:VCALENDAR